BEGIN:VCALENDAR
VERSION:2.0
PRODID:-//Parish of Caddo - ECPv6.15.20//NONSGML v1.0//EN
CALSCALE:GREGORIAN
METHOD:PUBLISH
X-WR-CALNAME:Parish of Caddo
X-ORIGINAL-URL:https://caddo.gov
X-WR-CALDESC:Events for Parish of Caddo
REFRESH-INTERVAL;VALUE=DURATION:PT1H
X-Robots-Tag:noindex
X-PUBLISHED-TTL:PT1H
BEGIN:VTIMEZONE
TZID:America/Chicago
BEGIN:DAYLIGHT
TZOFFSETFROM:-0600
TZOFFSETTO:-0500
TZNAME:CDT
DTSTART:20250309T080000
END:DAYLIGHT
BEGIN:STANDARD
TZOFFSETFROM:-0500
TZOFFSETTO:-0600
TZNAME:CST
DTSTART:20251102T070000
END:STANDARD
BEGIN:DAYLIGHT
TZOFFSETFROM:-0600
TZOFFSETTO:-0500
TZNAME:CDT
DTSTART:20260308T080000
END:DAYLIGHT
BEGIN:STANDARD
TZOFFSETFROM:-0500
TZOFFSETTO:-0600
TZNAME:CST
DTSTART:20261101T070000
END:STANDARD
BEGIN:DAYLIGHT
TZOFFSETFROM:-0600
TZOFFSETTO:-0500
TZNAME:CDT
DTSTART:20270314T080000
END:DAYLIGHT
BEGIN:STANDARD
TZOFFSETFROM:-0500
TZOFFSETTO:-0600
TZNAME:CST
DTSTART:20271107T070000
END:STANDARD
END:VTIMEZONE
BEGIN:VEVENT
DTSTART;TZID=America/Chicago:20260422T130000
DTEND;TZID=America/Chicago:20260422T160000
DTSTAMP:20260422T035516
CREATED:20260421T162211Z
LAST-MODIFIED:20260421T162211Z
UID:10000714-1776862800-1776873600@caddo.gov
SUMMARY:Appropriations Committee Meeting
DESCRIPTION:CADDO PARISH COMMISSION \n505 TRAVIS STREET\, GOVERNMENT PLAZA \nPUBLIC NOTICE \nAPPROPRIATIONS PLAN COMMITTEE \nMEETING AGENDA \nApril 22\, 2026 \n1:00 pm \n  \n\nAPPROPRIATIONS PLAN COMMITTEE ROLL CALL:\n\nVictor Thomas (Chair)\nJohn-Paul Young \nRoy Burrell \nJohn E. Atkins \nGreg Young\, President \n  \n\nINVOCATION:\nPLEDGE OF ALLEGIANCE:\n\nVeterans and active military members saluting during recitation of the Pledge of Allegiance would be appropriate\, should you wish to do so. All others\, please recite with your hands over your hearts\, and we ask that everyone please remember our POW-MIA’s as we say the Pledge of Allegiance. \n\nAGENDA ADDITIONS:\n\n  \n\nPUBLIC COMMENTS:\n\nCitizens who wish to address the Committee may appear in person\, and either fill out a comment card or request to speak when the chair asks if there are additional public comments. Individual comments are limited to 3 minutes\n6. NEW BUSINESS: \nNGO Presentations \n\n\n\nTime\nOrganization\n\n\n1:00PM\nSouthern University\n\n\n1:10PM\nRobinson Rescue\n\n\n1:20PM\nUnited Way\n\n\n1:30PM\nAcadiana Legal Services\n\n\n1:40PM\nThe Arc of Caddo Bossier\n\n\n\n\n\n\n2:05PM\nIndependence Bowl Foundation\n\n\n2:15PM\nFit For Life In\n\n\n2:25PM\nFilm Prize\n\n\n2:35PM\nShreveport-Bossier Sports Commission\n\n\n2:45PM\nCoHabitat Foundation\n\n\n\n  \n\nADJOURN:\n\nStatement of Accommodations \nTo all persons desiring to attend and observe a meeting of the Caddo Parish Commission\, or who wish to present information to the body: If you have physical limitations that require special accommodations in order for you to attend and participate in a meeting of the Caddo Parish Commission\, please contact the office of the Caddo Parish Commission Clerk at (318) 226-6596\, at least 24 hours in advance of the meeting so that an effort can be made to provide those accommodations.
URL:https://caddo.gov/event/appropriations-committee-meeting-9/
LOCATION:Government Plaza\, 505 Travis Street\, 1st Floor\, Shreveport\, LA\, 71101\, United States
CATEGORIES:Appropriations Committee (NGO),Committee Meetings
END:VEVENT
BEGIN:VEVENT
DTSTART;TZID=America/Chicago:20260423T153000
DTEND;TZID=America/Chicago:20260423T170000
DTSTAMP:20260422T035516
CREATED:20260105T165844Z
LAST-MODIFIED:20260105T165844Z
UID:10000671-1776958200-1776963600@caddo.gov
SUMMARY:Caddo Parish Commission Regular Session
DESCRIPTION:
URL:https://caddo.gov/event/caddo-parish-commission-regular-session-8/
CATEGORIES:Regular Session
END:VEVENT
BEGIN:VEVENT
DTSTART;VALUE=DATE:20260428
DTEND;VALUE=DATE:20260429
DTSTAMP:20260422T035516
CREATED:20260105T171726Z
LAST-MODIFIED:20260105T171726Z
UID:10000690-1777334400-1777420799@caddo.gov
SUMMARY:Louisiana Police Jury Association Legislative Day & Annual Black Caucus Meeting
DESCRIPTION:
URL:https://caddo.gov/event/louisiana-police-jury-association-legislative-day-annual-black-caucus-meeting/
END:VEVENT
BEGIN:VEVENT
DTSTART;TZID=America/Chicago:20260429T090000
DTEND;TZID=America/Chicago:20260429T100000
DTSTAMP:20260422T035516
CREATED:20260326T155525Z
LAST-MODIFIED:20260326T182925Z
UID:10000706-1777453200-1777456800@caddo.gov
SUMMARY:Adjudicated Property Sale
DESCRIPTION:BIDS MUST BE SUBMITTED BEFORE 9:00 AM\nThe public bid opening will take place on the first floor of Government Plaza at 9:30 AM on Wednesday\, April 29th\, 2026. Make sure all funds are payable to the Parish of Caddo\, and sealed bids include an Intent to Bid form rather than an application. Bids received by a designated Adjudicated Property Specialist after 9:00 AM on the bid day will be considered invalid.\nAdjudicated Properties April List\nLocation: Government Plaza  (1st Floor)\nDate: Wednesday\, April 29th\, 2026\nBid Opening Time: 9:30 AM \n\nGeneral Procedures – Please review before submitting your bid.\nIntent to Bid Form – This form must be completed and included in the sealed bid envelope.\nBid Checklist – Instructions for preparing a sealed bid.\n\n\nBids can be mailed or hand-delivered to: \nParish of Caddo\nAttn: Adjudicated Property\n505 Travis Street\, Suite 820\nShreveport\, Louisiana 71101 \n\n\n		\n			\n			\n		\n\n		\n 
URL:https://caddo.gov/event/adjudicated-property-sale-18/
LOCATION:Government Plaza\, 505 Travis Street\, 1st Floor\, Shreveport\, LA\, 71101\, United States
CATEGORIES:Public Works Calendar
END:VEVENT
END:VCALENDAR