BEGIN:VCALENDAR
VERSION:2.0
PRODID:-//Parish of Caddo - ECPv6.15.20//NONSGML v1.0//EN
CALSCALE:GREGORIAN
METHOD:PUBLISH
X-WR-CALNAME:Parish of Caddo
X-ORIGINAL-URL:https://caddo.gov
X-WR-CALDESC:Events for Parish of Caddo
REFRESH-INTERVAL;VALUE=DURATION:PT1H
X-Robots-Tag:noindex
X-PUBLISHED-TTL:PT1H
BEGIN:VTIMEZONE
TZID:America/Chicago
BEGIN:DAYLIGHT
TZOFFSETFROM:-0600
TZOFFSETTO:-0500
TZNAME:CDT
DTSTART:20240310T080000
END:DAYLIGHT
BEGIN:STANDARD
TZOFFSETFROM:-0500
TZOFFSETTO:-0600
TZNAME:CST
DTSTART:20241103T070000
END:STANDARD
BEGIN:DAYLIGHT
TZOFFSETFROM:-0600
TZOFFSETTO:-0500
TZNAME:CDT
DTSTART:20250309T080000
END:DAYLIGHT
BEGIN:STANDARD
TZOFFSETFROM:-0500
TZOFFSETTO:-0600
TZNAME:CST
DTSTART:20251102T070000
END:STANDARD
BEGIN:DAYLIGHT
TZOFFSETFROM:-0600
TZOFFSETTO:-0500
TZNAME:CDT
DTSTART:20260308T080000
END:DAYLIGHT
BEGIN:STANDARD
TZOFFSETFROM:-0500
TZOFFSETTO:-0600
TZNAME:CST
DTSTART:20261101T070000
END:STANDARD
END:VTIMEZONE
BEGIN:VEVENT
DTSTART;TZID=America/Chicago:20250130T080000
DTEND;TZID=America/Chicago:20250304T150000
DTSTAMP:20260422T035436
CREATED:20250305T153420Z
LAST-MODIFIED:20250305T153420Z
UID:10000529-1738224000-1741100400@caddo.gov
SUMMARY:RFP 25-03 Caddo Parish Health Unit and Juvenile Justice Complex Energy Performance Project
DESCRIPTION:
URL:https://caddo.gov/event/rfp-25-03-caddo-parish-health-unit-and-juvenile-justice-complex-energy-performance-project/
LOCATION:Government Plaza\, 505 Travis Street\, 1st Floor\, Shreveport\, LA\, 71101\, United States
CATEGORIES:Purchasing Bids
END:VEVENT
BEGIN:VEVENT
DTSTART;TZID=America/Chicago:20250203T153000
DTEND;TZID=America/Chicago:20250203T170000
DTSTAMP:20260422T035436
CREATED:20241216T215306Z
LAST-MODIFIED:20250203T211617Z
UID:10000454-1738596600-1738602000@caddo.gov
SUMMARY:Work Session Meeting of the Caddo Parish Commission
DESCRIPTION:CADDO PARISH COMMISSION\n505 TRAVIS STREET\, GOVERNMENT PLAZA\nPUBLIC NOTICE\nWORK SESSION AGENDA\nStreaming at https://www.youtube.com/@parishofcaddois  \nFebruary 3\, 2025\n3:30 P.M. \n  \n\nROLL CALL:\n\n            Commissioners: \n\n\n\nDistrict 1\nKracman\nDistrict 7\nGage-Watts\n\n\nDistrict 2\nYoung\, G. \nDistrict 8\nBlake\n\n\nDistrict 3\nThomas\nDistrict 9\nAtkins\n\n\nDistrict 4\nYoung\, J.P. \nDistrict 10\nCothran\n\n\nDistrict 5\nBurrell\nDistrict 11 \nLazarus\n\n\nDistrict 6\nJones\nDistrict 12\nEpperson\n\n\n\n  \n  \n  \n\nINVOCATION:\n\n  \n\nPLEDGE OF ALLEGIANCE:\n\nVeterans and active military members saluting during recitation of the Pledge of Allegiance would be appropriate\, should you wish to do so. All others\, please recite with your hands over your hearts\, and we ask that everyone please remember our POW-MIA’s as we say the Pledge of Allegiance. \n  \n\nAGENDA ADDITIONS:\n\n4.1 POTENTIAL AGENDA ADDITION: Advance a Special Resolution of Remembrance for Fred Caldwell II \n(Gage-Watts\, Jones) \n4.2 POTENTIAL AGENDA ADDITION: Advance a Special Resolution of Remembrance for Joe Shyne  \n(Thomas\, Gage-Watts\, Jones) \n\nCITIZENS COMMENTS:\n\nCitizens who wish to address the Commission on any issue other than zoning\, please fill out a comment card located in the chamber foyer and return to the President or the Clerk of the Commission.  Individual comments are limited to 3 minutes. \n6. VISITORS: \n\nREPORTS:\n\n7.1 Admin Report \n  \n  \n\nCOMMISSION REMARKS:\n\n                        Communiques\, reports\, and other items related to Work Session Agenda. \n  \n\nPRESIDENT’S REPORT:\n\n  \n\nOLD BUSINESS:\n\n  \n\nNEW BUSINESS:\n\n11.1 Advance the Introduction of Ordinance 6514 of 2025 \nAN ORDINANCE TO AMEND VOLUME II OF THE CODE OF ORDINANCES OF THE PARISH OF CADDO\, AS AMENDED\, THE CADDO PARISH UNIFIED DEVELOPMENT CODE\, BY AMENDING THE ZONING OF PROPERTY LOCATED ON THE WEST SIDE OF DEAN ROAD\, APPROXIMATELY 800 FEET SOUTH OF GREEN TERRACE ROAD\, CADDO PARISH\, LOUISIANA\, FROM R-A RURAL-AGRICULTURAL ZONING DISTRICT TO R-1-7 SINGLE-FAMILY RESIDENTIAL ZONING DISTRICT\, AND TO OTHERWISE PROVIDE WITH RESPECT THERETO \n(District 12) \n  \n11.2 Advance the Introduction of Ordinance 6515 of 2025 \nAN ORDINANCE TO AMEND VOLUME II OF THE CODE OF ORDINANCES OF THE PARISH OF CADDO\, AS AMENDED\, THE CADDO PARISH UNIFIED DEVELOPMENT CODE\, BY AMENDING THE ZONING OF PROPERTY LOCATED ON THE NORTH END OF DAVID RAINES ROAD AND AUDREY LANE\, CADDO PARISH\, LOUISIANA\, FROM R-A RURALAGRICULTURAL ZONING DISTRICT TO R-1-7 SINGLEFAMILY \nRESIDENTIAL ZONING DISTRICT\, AND TO OTHERWISE PROVIDE WITH RESPECT THERETO \n(District 2) \n  \n11.3 Advance the Introduction of Ordinance 6516 of 2025 \nAN ORDINANCE TO CLOSE AND ABANDON AN UN-NAMED PUBLIC DEDICATION IN THE NORTHWOOD HILLS SUBDIVISION\, LOCATED IN SECTION 35\, TOWNSHIP 19 NORTH\, RANGE 15 WEST\, IN THE PARISH OF CADDO\, AND TO OTHERWISE PROVIDE WITH RESPECT THERETO Exhibit 1 \n(Public Works) \n  \n11.4 Advance the Introduction of Ordinance 6517 of 2025 \nAN ORDINANCE RELATIVE TO THE SALE OF PARISH PROPERTY\, TO AUTHORIZE THE SALE OF THE REGIONAL LAB BUILDING LOCATED AT 533 VINE STREET\, SHREVEPORT\, LOUISIANA\, AND ADJACENT PARKING LOTS AND OTHERWISE PROVIDING WITH RESPECT THERETO. \n(Long Range Planning Committee) \n  \n11.5 Advance the Introduction of Ordinance 6518 of 2025 \nAN ORDINANCE AMENDING THE BUDGET OF ESTIMATED REVENUES AND EXPENDITURES FOR THE SOLID WASTE FUND AND THE RIVERBOAT FUND TO PROVIDE AN ADDITIONAL APPROPRIATION FOR PROPERTY STANDARDS AND TO OTHERWISE PROVIDE WITH RESPECT THERETO Fact Sheet \n(Young\, J-P) \n  \n11.6 Advance Resolution 5 of 2025 \nA RESOLUTION TO AUTHORIZE THE CADDO PARISH ADMINISTRATOR TO APPROVE THE ASSIGNMENT\, BILL OF SALE AND CONVEYANCE OF STATE AGENCY LEASES NO. 22252 AND NO. 22253 FROM CYPRESS ENERGY PARTNERS\, LLC.\, TO PALOMA NATURAL GAS\, LLC.\, AND OTHERWISE PROVIDING WITH RESPECT THERETO Fact Sheet \n  \n11.7 Advance a Special Resolution recognizing Black History Month in the Parish of Caddo \n(Gage-Watts) \n  \n11.8 Advance Special Resolution honoring Bonnie Moore upon her Retirement \n(Burrell) \n  \n11.9 Advance a Special Resolution Welcoming Pastor Bobby Smith \n(Gage-Watts) \n  \n11.10 Advance Action Item Authorizing Administration to accept changes to the Cooperative Endeavor Agreement and Assignment related to the Red River Expressway. Exhibit 1 \n(Long Range Planning\, Atkins) \n  \n11.11 Advance Selection of Youth Advisory Council Members \n(Gage-Watts) \n  \n\nCOMMUNIQUES AND COMMITTEE REPORTS:\n\n  \n\nCITIZENS COMMENTS (Late Arrivals):\n\nCitizens who wish to address the Commission please fill out a comment card located in the chamber foyer\, and return to the Chairman or the Clerk of the Commission. Citizens may also fill out & submit a COMMENT CARD ONLINE HERE prior to the meeting.  Individual comments are limited to 3 minutes. \n  \n\nCONSENT AGENDA:\n\n1 Public Hearing and Final Consideration of Ordinance 6513 of 2025\n\n\n\nAN ORDINANCE AMENDING THE BUDGET OF ESTIMATED REVENUES AND EXPENDITURES FOR THE CAPITAL OUTLAY FUND TO CHANGE AN APPROPRIATION FROM THE CONSTRUCTION AND IMPROVEMENT OF GREENWOOD WATER LINES TO CONSTRUCTION OF THE DAWSON ROAD EXTENSION. Fact Sheet \n(Epperson) \n  \n\nADJOURN:\n\n  \nStatement of Accommodations \nTo all persons desiring to attend and observe a meeting of the Caddo Parish Commission\, or who wish to present information to the body: If you have physical limitations that require special accommodations in order for you to attend and participate in a meeting of the Caddo Parish Commission\, please contact the office of the Caddo Parish Commission Clerk at (318) 226-6596\, at least 24 hours in advance of the meeting so that an effort can be made to provide those accommodations. \n 
URL:https://caddo.gov/event/work-session-meeting-of-the-caddo-parish-commission-3/
LOCATION:Government Plaza\, 505 Travis Street\, 1st Floor\, Shreveport\, LA\, 71101\, United States
CATEGORIES:Work Session
END:VEVENT
BEGIN:VEVENT
DTSTART;TZID=America/Chicago:20250204T160000
DTEND;TZID=America/Chicago:20250204T170000
DTSTAMP:20260422T035436
CREATED:20250203T215316Z
LAST-MODIFIED:20250204T212635Z
UID:10000515-1738684800-1738688400@caddo.gov
SUMMARY:Work Session (rescheduled)
DESCRIPTION:CADDO PARISH COMMISSION\n505 TRAVIS STREET\, GOVERNMENT PLAZA\nPUBLIC NOTICE\nWORK SESSION AGENDA\nStreaming at https://www.youtube.com/@parishofcaddois  \nFebruary 4\, 2025\n3:30 P.M. \n  \n\nROLL CALL:\n\n            Commissioners: \n\n\n\nDistrict 1\nKracman\nDistrict 7\nGage-Watts\n\n\nDistrict 2\nYoung\, G. \nDistrict 8\nBlake\n\n\nDistrict 3\nThomas\nDistrict 9\nAtkins\n\n\nDistrict 4\nYoung\, J.P. \nDistrict 10\nCothran\n\n\nDistrict 5\nBurrell\nDistrict 11 \nLazarus\n\n\nDistrict 6\nJones\nDistrict 12\nEpperson\n\n\n\n  \n  \n  \n\nINVOCATION:\n\n  \n\nPLEDGE OF ALLEGIANCE:\n\nVeterans and active military members saluting during recitation of the Pledge of Allegiance would be appropriate\, should you wish to do so. All others\, please recite with your hands over your hearts\, and we ask that everyone please remember our POW-MIA’s as we say the Pledge of Allegiance. \n  \n4. AGENDA ADDITIONS: \n4.1 POTENTIAL AGENDA ADDITION: Advance Special Resolution of Remembrance for Pastor H. Calvin Austin\, III \n(Jones\, Cothran\, Epperson) \n5. CITIZENS COMMENTS: \nCitizens who wish to address the Commission on any issue other than zoning\, please fill out a comment card located in the chamber foyer and return to the President or the Clerk of the Commission.  Individual comments are limited to 3 minutes. \n6. VISITORS: \n\nREPORTS:\n\n7.1 Admin Report \n  \n  \n\nCOMMISSION REMARKS:\n\n                        Communiques\, reports\, and other items related to Work Session Agenda. \n  \n\nPRESIDENT’S REPORT:\n\n  \n\nOLD BUSINESS:\n\n  \n\nNEW BUSINESS:\n\n11.1 Advance the Introduction of Ordinance 6514 of 2025 Re: Case 24-39-P \nAN ORDINANCE TO AMEND VOLUME II OF THE CODE OF ORDINANCES OF THE PARISH OF CADDO\, AS AMENDED\, THE CADDO PARISH UNIFIED DEVELOPMENT CODE\, BY AMENDING THE ZONING OF PROPERTY LOCATED ON THE WEST SIDE OF DEAN ROAD\, APPROXIMATELY 800 FEET SOUTH OF GREEN TERRACE ROAD\, CADDO PARISH\, LOUISIANA\, FROM R-A RURAL-AGRICULTURAL ZONING DISTRICT TO R-1-7 SINGLE-FAMILY RESIDENTIAL ZONING DISTRICT\, AND TO OTHERWISE PROVIDE WITH RESPECT THERETO \n(District 06) \n  \n11.2 Advance the Introduction of Ordinance 6515 of 2025 Re: Case 24-45-P \nAN ORDINANCE TO AMEND VOLUME II OF THE CODE OF ORDINANCES OF THE PARISH OF CADDO\, AS AMENDED\, THE CADDO PARISH UNIFIED DEVELOPMENT CODE\, BY AMENDING THE ZONING OF PROPERTY LOCATED ON THE NORTH END OF DAVID RAINES ROAD AND AUDREY LANE\, CADDO PARISH\, LOUISIANA\, FROM R-A RURALAGRICULTURAL ZONING DISTRICT TO R-1-7 SINGLE FAMILY RESIDENTIAL ZONING DISTRICT\, AND TO OTHERWISE PROVIDE WITH RESPECT THERETO \n(District 2) \n  \n11.3 Advance the Introduction of Ordinance 6516 of 2025 \nAN ORDINANCE TO CLOSE AND ABANDON AN UN-NAMED PUBLIC DEDICATION IN THE NORTHWOOD HILLS SUBDIVISION\, LOCATED IN SECTION 35\, TOWNSHIP 19 NORTH\, RANGE 15 WEST\, IN THE PARISH OF CADDO\, AND TO OTHERWISE PROVIDE WITH RESPECT THERETO Exhibit 1 \n(Public Works) \n  \n11.4 Advance the Introduction of Ordinance 6517 of 2025 \nAN ORDINANCE RELATIVE TO THE SALE OF PARISH PROPERTY\, TO AUTHORIZE THE SALE OF THE REGIONAL LAB BUILDING LOCATED AT 533 VINE STREET\, SHREVEPORT\, LOUISIANA\, AND ADJACENT PARKING LOTS AND OTHERWISE PROVIDING WITH RESPECT THERETO. \n(Long Range Planning Committee) \n  \n11.5 Advance the Introduction of Ordinance 6518 of 2025 \nAN ORDINANCE AMENDING THE BUDGET OF ESTIMATED REVENUES AND EXPENDITURES FOR THE SOLID WASTE FUND AND THE RIVERBOAT FUND TO PROVIDE AN ADDITIONAL APPROPRIATION FOR PROPERTY STANDARDS AND TO OTHERWISE PROVIDE WITH RESPECT THERETO Fact Sheet \n(J-P Young\, Jones) \n  \n11.6 Advance Resolution 5 of 2025 \nA RESOLUTION TO AUTHORIZE THE CADDO PARISH ADMINISTRATOR TO APPROVE THE ASSIGNMENT\, BILL OF SALE AND CONVEYANCE OF STATE AGENCY LEASES NO. 22252 AND NO. 22253 FROM CYPRESS ENERGY PARTNERS\, LLC.\, TO PALOMA NATURAL GAS\, LLC.\, AND OTHERWISE PROVIDING WITH RESPECT THERETO Fact Sheet \n  \n11.7 Advance a Special Resolution recognizing Black History Month in the Parish of Caddo \n(Gage-Watts\, Cothran) \n  \n11.8 Advance Special Resolution honoring Bonnie Moore upon her Retirement \n(Burrell\, Cothran) \n  \n11.9 Advance a Special Resolution Welcoming Pastor Bobby Smith \n(Gage-Watts) \n  \n11.10 Advance a Special Resolution of Remembrance for Fred Caldwell II \n(Gage-Watts\, Jones\, Epperson) \n  \n11.11  Advance a Special Resolution of Remembrance for Joe Shyne  \n(Thomas\, Gage-Watts\, Jones\, Epperson) \n  \n11.12 Advance Action Item Authorizing Administration to accept changes to the Cooperative Endeavor Agreement and Assignment related to the Red River Expressway. Exhibit 1 \n(Long Range Planning\, Atkins) \n  \n11.13 Advance Selection of Youth Advisory Council Members \n(Gage-Watts) \n  \n\nCOMMUNIQUES AND COMMITTEE REPORTS:\n\n  \n\nCITIZENS COMMENTS (Late Arrivals):\n\nCitizens who wish to address the Commission please fill out a comment card located in the chamber foyer\, and return to the Chairman or the Clerk of the Commission. Citizens may also fill out & submit a COMMENT CARD ONLINE HERE prior to the meeting.  Individual comments are limited to 3 minutes. \n  \n\nCONSENT AGENDA:\n\n1 Public Hearing and Final Consideration of Ordinance 6513 of 2025\n\n\n\nAN ORDINANCE AMENDING THE BUDGET OF ESTIMATED REVENUES AND EXPENDITURES FOR THE CAPITAL OUTLAY FUND TO CHANGE AN APPROPRIATION FROM THE CONSTRUCTION AND IMPROVEMENT OF GREENWOOD WATER LINES TO CONSTRUCTION OF THE DAWSON ROAD EXTENSION. Fact Sheet \n(Epperson) \n  \n\nADJOURN:\n\n  \nStatement of Accommodations \nTo all persons desiring to attend and observe a meeting of the Caddo Parish Commission\, or who wish to present information to the body: If you have physical limitations that require special accommodations in order for you to attend and participate in a meeting of the Caddo Parish Commission\, please contact the office of the Caddo Parish Commission Clerk at (318) 226-6596\, at least 24 hours in advance of the meeting so that an effort can be made to provide those accommodations. \n 
URL:https://caddo.gov/event/work-session-rescheduled/
LOCATION:Government Plaza\, 505 Travis Street\, 1st Floor\, Shreveport\, LA\, 71101\, United States
CATEGORIES:Special Session,Work Session
END:VEVENT
BEGIN:VEVENT
DTSTART;TZID=America/Chicago:20250205T120000
DTEND;TZID=America/Chicago:20250205T140000
DTSTAMP:20260422T035436
CREATED:20250203T165523Z
LAST-MODIFIED:20250203T170633Z
UID:10000514-1738756800-1738764000@caddo.gov
SUMMARY:INDUSTRIAL DEVELOPMENT BOARD OF THE PARISH OF CADDO\, INC.
DESCRIPTION:PUBLIC NOTICE:\nNotice is hereby given that a meeting of the Board of Directors of the Industrial Development\nBoard of the Parish of Caddo\, Inc.\, has been called by the President and that the meeting shall take\nplace on Wednesday\, February 5\, 2024\, at 12:00 p.m. in the 1st Floor Conference Room of\nGovernment Plaza\, located at 505 Travis Street\, Shreveport\, LA 71101. \n  \nAgenda\nWednesday\, February 5\, 2025\n12:00 p.m. \n1. Call to Order\n2. Roll Call\n3. Approval of the Minutes of the November 15\, 2024\, Meeting\n4. Public Comment\n5. Election of Second Vice-President\n6. Consideration of purchase of domain name\n7. Consideration of purchase of Microsoft 365 Business Account\n8. Consideration of purchase of JotForm subscription\n9. Consideration of CEA with Durham Transport\n10. Consideration of Amendments to Amazon related PILOT Leases\n11. Consideration of Extension of State Agency Lease #22066\n12. Update on IRG & Shreveport Business Park\n13. Finance Report/Approval of Expenses\n14. Other Business (Unanimous consent required to amend agenda\, La. R.S. 42:19)\n15. Adjournment
URL:https://caddo.gov/event/industrial-development-board-of-the-parish-of-caddo-inc/
LOCATION:Government Plaza\, 505 Travis Street\, 1st Floor\, Shreveport\, LA\, 71101\, United States
END:VEVENT
BEGIN:VEVENT
DTSTART;TZID=America/Chicago:20250206T130000
DTEND;TZID=America/Chicago:20250206T140000
DTSTAMP:20260422T035436
CREATED:20250205T165433Z
LAST-MODIFIED:20250205T173110Z
UID:10000516-1738846800-1738850400@caddo.gov
SUMMARY:Appropriations Committee Meeting
DESCRIPTION:CADDO PARISH COMMISSION \n505 TRAVIS STREET\, GOVERNMENT PLAZA \nPUBLIC NOTICE \nAPPROPRIATIONS  COMMITTEE \nMEETING AGENDA \nFebruary 6\, 2025 \n1:00 pm \n  \n\nAPPROPRIATIONS  COMMITTEE ROLL CALL:\n\nVictor Thomas (Chair) \nRon Cothran \nKenneth R. Epperson\, Sr.\, \nRoy Burrell \nGrace Anne Blake \nJohn-Paul Young \nStormy Gage-Watts—President \n  \n\nINVOCATION:\nPLEDGE OF ALLEGIANCE:\n\nVeterans and active military members saluting during recitation of the Pledge of Allegiance would be appropriate\, should you wish to do so. All others\, please recite with your hands over your hearts\, and we ask that everyone please remember our POW-MIA’s as we say the Pledge of Allegiance. \n  \n\nAGENDA ADDITIONS:\n\n  \n\nPUBLIC COMMENTS:\n\nCitizens who wish to address the Committee may appear in person\, and either fill out a comment card or request to speak when the chair asks if there are additional public comments. Individual comments are limited to 3 minutes \n\nNEW BUSINESS:\n\n\nDiscussion regarding NGO Appropriations process.\nDiscussion regarding NGO Education Seminar\n\n\nADJOURN:\n\n  \nStatement of Accommodations \nTo all persons desiring to attend and observe a meeting of the Caddo Parish Commission\, or who wish to present information to the body: If you have physical limitations that require special accommodations in order for you to attend and participate in a meeting of the Caddo Parish Commission\, please contact the office of the Caddo Parish Commission Clerk at (318) 226-6596\, at least 24 hours in advance of the meeting so that an effort can be made to provide those accommodations. \n  \n 
URL:https://caddo.gov/event/appropriations-committee-meeting-6/
LOCATION:Government Plaza\, 505 Travis Street\, 1st Floor\, Shreveport\, LA\, 71101\, United States
CATEGORIES:Appropriations Committee (NGO),Committee Meetings
END:VEVENT
BEGIN:VEVENT
DTSTART;TZID=America/Chicago:20250206T140000
DTEND;TZID=America/Chicago:20250206T150000
DTSTAMP:20260422T035436
CREATED:20250205T171258Z
LAST-MODIFIED:20250205T171258Z
UID:10000517-1738850400-1738854000@caddo.gov
SUMMARY:Public Safety Committee
DESCRIPTION:CADDO PARISH COMMISSION \n505 TRAVIS STREET\, GOVERNMENT PLAZA \nPUBLIC NOTICE \nPUBLIC SAFETY  COMMITTEE \nMEETING AGENDA \nFebruary 6\, 2025 \n2:00 pm \n  \n\nPUBLIC SAFETY COMMITTEE ROLL CALL:\n\n  \nKenneth R. Epperson\, Sr. – Chair \nJohn E. Atkins \nJohn-Paul Young \nEd Lazarus \nStormy Gage-Watts– President \n  \n\nINVOCATION:\nPLEDGE OF ALLEGIANCE:\n\nVeterans and active military members saluting during recitation of the Pledge of Allegiance would be appropriate\, should you wish to do so. All others\, please recite with your hands over your hearts\, and we ask that everyone please remember our POW-MIA’s as we say the Pledge of Allegiance. \n\nAGENDA ADDITIONS:\n\n  \n\nPUBLIC COMMENTS:\n\nCitizens who wish to address the Committee may appear in person\, and either fill out a comment card or request to speak when the chair asks if there are additional public comments. Individual comments are limited to 3 minutes \n\nNEW BUSINESS:\n\n\nDiscussion of Citizens Disaster Response Committee Document\n\n\nDiscuss and make recommendation related to Resolution 4 of 2025– A RESOLUTION APPROVING THE AMENDED 2024 AND PROPOSED 2025 BUDGETS OF THE NORTH LOUISIANA CRIMINALISTICS LABORATORY COMMISSION AND TO OTHERWISE PROVIDE WITH RESPECT THERETO. Exhibit 1\nADJOURN:\n\n  \nStatement of Accommodations \nTo all persons desiring to attend and observe a meeting of the Caddo Parish Commission\, or who wish to present information to the body: If you have physical limitations that require special accommodations in order for you to attend and participate in a meeting of the Caddo Parish Commission\, please contact the office of the Caddo Parish Commission Clerk at (318) 226-6596\, at least 24 hours in advance of the meeting so that an effort can be made to provide those accommodations. \n  \n 
URL:https://caddo.gov/event/public-safety-committee-2/
LOCATION:Government Plaza\, 505 Travis Street\, 1st Floor\, Shreveport\, LA\, 71101\, United States
CATEGORIES:Committee Meetings,Public Safety Funding Ad Hoc Committee
END:VEVENT
BEGIN:VEVENT
DTSTART;TZID=America/Chicago:20250206T153000
DTEND;TZID=America/Chicago:20250206T170000
DTSTAMP:20260422T035436
CREATED:20241216T224523Z
LAST-MODIFIED:20250206T164623Z
UID:10000505-1738855800-1738861200@caddo.gov
SUMMARY:Regular Session Meeting of the Caddo Parish Commission
DESCRIPTION:CADDO PARISH COMMISSION\nGOVERNMENT PLAZA CHAMBERS\n505 TRAVIS STREET\, SHREVEPORT\, LA 71101\nPUBLIC NOTICE\nREGULAR SESSION AGENDA\nStreaming at \nhttps://www.youtube.com/@parishofcaddois  \nFebruary 6\, 2025\n3:30 P.M. \n  \n\nROLL CALL:\n\nCommissioners: \n\n\n\nDistrict 1\nKracman\nDistrict 7\nGage-Watts\n\n\nDistrict 2\nYoung\, G.\nDistrict 8\nBlake\n\n\nDistrict 3\nThomas\nDistrict 9\nAtkins\n\n\nDistrict 4\nYoung\, J.P.\nDistrict 10\nCothran\n\n\nDistrict 5\nBurrell\nDistrict 11\nLazarus\n\n\nDistrict 6\nJones\nDistrict 12\nEpperson\n\n\n\n  \n  \n  \n\nINVOCATION:\n\n  \n\nPLEDGE OF ALLEGIANCE:\n\nVeterans and active military members saluting during recitation of the Pledge of Allegiance would be appropriate\, should you wish to do so. All others\, please recite with your hands over your hearts\, and we ask that everyone please remember our POW-MIA’s as we say the Pledge of Allegiance. \n  \n\nAGENDA ADDITIONS:\n\n  \n\nCITIZENS COMMENTS:\n\nCitizens who wish to address the Commission on any issue other than zoning\, please fill out a comment card located in the chamber foyer and return to the President or the Clerk of the Commission.  Individual comments are limited to 3 minutes. \n     \nNOTE:  Citizens who wish to address the Commission on matters relative to public hearings (items listed on the agenda only) will be limited to a cumulative total of 15 minutes each\, for or against an issue. Those who wish to speak or make a presentation are asked to select their speakers and address the points they wish considered with this limitation in mind. \n  \n\nVISITORS (Special Presentations up to 15 minutes at President’s discretion):\n\n  \n\nADOPT REGULAR SESSION MINUTES:\n\n7.1 January 23\, 2025 Regular Session Minutes \n\nSPECIAL RESOLUTIONS:\n\n8.1 Special Resolution recognizing Black History Month in the Parish of Caddo \n(Gage-Watts\, Cothran\, Epperson\, Thomas) \n8.2 Special Resolution honoring Bonnie Moore upon her Retirement \n(Burrell\, Cothran\, Epperson\, Thomas) \n8.3 Special Resolution Welcoming Pastor Bobby Smith \n(Gage-Watts\, Epperson) \n8.4 Special Resolution of Remembrance for Fred Caldwell II \n(Gage-Watts\, Jones\, Cothran\, Epperson\, Thomas) \n8.5 Special Resolution of Remembrance for the Hon. Joe Shyne  \n(Thomas\, Gage-Watts\, Jones\, Cothran\, Epperson\, Burrell) \n8.6 Special Resolution of Remembrance for Pastor H. Calvin Austin\, III \n(Jones\, Cothran\, Epperson\, Thomas) \n  \n\nCOMMUNIQUES AND COMMITTEE REPORTS:\n\n            Administration response to information requests from Commissioners \n\nPRESIDENT’S REPORT:\n\n  \n\nPUBLIC HEARING ON ZONING ORDINANCES & CASES:\n\n  \n\nPUBLIC HEARING ON ORDINANCES:\n\n  \n12.1     Public Hearing Ordinance 6513 of 2025 \nAN ORDINANCE AMENDING THE BUDGET OF ESTIMATED REVENUES AND EXPENDITURES FOR THE CAPITAL OUTLAY FUND TO CHANGE AN APPROPRIATION FROM THE CONSTRUCTION AND IMPROVEMENT OF GREENWOOD WATER LINES TO CONSTRUCTION OF THE DAWSON ROAD EXTENSION. Fact Sheet \n(Epperson) \n  \n\nZONING ORDINANCES (For Final Passage):\n\n  \n  \n\nORDINANCES (For Final Passage):\n\n14.1     Ordinance 6513 of 2025 \nAN ORDINANCE AMENDING THE BUDGET OF ESTIMATED REVENUES AND EXPENDITURES FOR THE CAPITAL OUTLAY FUND TO CHANGE AN APPROPRIATION FROM THE CONSTRUCTION AND IMPROVEMENT OF GREENWOOD WATER LINES TO CONSTRUCTION OF THE DAWSON ROAD EXTENSION. Fact Sheet \n(Epperson) \n  \n  \n\nZONING ORDINANCES (For Introduction By Title):\n\n15.1 Introduce Ordinance 6514 of 2025 Re: Case 24-39-P \nAN ORDINANCE TO AMEND VOLUME II OF THE CODE OF ORDINANCES OF THE PARISH OF CADDO\, AS AMENDED\, THE CADDO PARISH UNIFIED DEVELOPMENT CODE\, BY AMENDING THE ZONING OF PROPERTY LOCATED ON THE WEST SIDE OF DEAN ROAD\, APPROXIMATELY 800 FEET SOUTH OF GREEN TERRACE ROAD\, CADDO PARISH\, LOUISIANA\, FROM R-A RURAL-AGRICULTURAL ZONING DISTRICT TO R-1-7 SINGLE-FAMILY RESIDENTIAL ZONING DISTRICT\, AND TO OTHERWISE PROVIDE WITH RESPECT THERETO \n(District 06) \n  \n15.2 Introduce Ordinance 6515 of 2025 Re: Case 24-45-P \nAN ORDINANCE TO AMEND VOLUME II OF THE CODE OF ORDINANCES OF THE PARISH OF CADDO\, AS AMENDED\, THE CADDO PARISH UNIFIED DEVELOPMENT CODE\, BY AMENDING THE ZONING OF PROPERTY LOCATED ON THE NORTH END OF DAVID RAINES ROAD AND AUDREY LANE\, CADDO PARISH\, LOUISIANA\, FROM R-A RURALAGRICULTURAL ZONING DISTRICT TO R-1-7 SINGLE FAMILY RESIDENTIAL ZONING DISTRICT\, AND TO OTHERWISE PROVIDE WITH RESPECT THERETO \n(District 2) \n  \n\nORDINANCES (For Introduction By Title):\n\n16.1 Introduce Ordinance 6516 of 2025 \nAN ORDINANCE TO CLOSE AND ABANDON AN UN-NAMED PUBLIC DEDICATION IN THE NORTHWOOD HILLS SUBDIVISION\, LOCATED IN SECTION 35\, TOWNSHIP 19 NORTH\, RANGE 15 WEST\, IN THE PARISH OF CADDO\, AND TO OTHERWISE PROVIDE WITH RESPECT THERETO Exhibit 1  \n(District 1) \n  \n16.2 Introduce Ordinance 6517 of 2025 \nAN ORDINANCE RELATIVE TO THE SALE OF PARISH PROPERTY\, TO AUTHORIZE THE SALE OF THE REGIONAL LAB BUILDING LOCATED AT 533 VINE STREET\, SHREVEPORT\, LOUISIANA\, AND ADJACENT PARKING LOTS AND OTHERWISE PROVIDING WITH RESPECT THERETO. \n(Long Range Planning Committee\, Thomas) \n  \n16.3 Introduce Ordinance 6518 of 2025 \nAN ORDINANCE AMENDING THE BUDGET OF ESTIMATED REVENUES AND EXPENDITURES FOR THE SOLID WASTE FUND AND THE RIVERBOAT FUND TO PROVIDE AN ADDITIONAL APPROPRIATION FOR PROPERTY STANDARDS AND TO OTHERWISE PROVIDE WITH RESPECT THERETO Fact Sheet \n(J-P Young\, Jones\, Burrell\, Thomas) \n  \n\nWORK SESSION MINUTES:\n\n17.1 February 4\, 2025 Work Session Minutes \n\nRESOLUTIONS:\n\n18.1 Resolution 5 of 2025 \nA RESOLUTION TO AUTHORIZE THE CADDO PARISH ADMINISTRATOR TO APPROVE THE ASSIGNMENT\, BILL OF SALE AND CONVEYANCE OF STATE AGENCY LEASES NO. 22252 AND NO. 22253 FROM CYPRESS ENERGY PARTNERS\, LLC.\, TO PALOMA NATURAL GAS\, LLC.\, AND OTHERWISE PROVIDING WITH RESPECT THERETO Fact Sheet \n(District 5\, 7\, and 12) \n  \n  \n\nOLD BUSINESS:\n\n  \n  \n  \n\nNEW BUSINESS:\n\n20.1 Authorize Administration to accept changes to the Cooperative Endeavor Agreement and Assignment related to the Red River Expressway. Exhibit 1 \n(Long Range Planning\, Atkins) \n  \n20.2 Selection of Youth Advisory Council Members Exhibit 1 \n(Gage-Watts\, Thomas) \n  \n\nCOMMUNIQUES AND REPORTS:\n\n  \n\nCITIZEN COMMENTS (Late Arrivals)\n\nCitizens who wish to address the Commission please fill out a comment card located in the chamber foyer\, and return to the Chairman or the Clerk of the Commission. Citizens may also fill out & submit a COMMENT CARD ONLINE HERE prior to the meeting.  Individual comments are limited to 3 minutes. \n  \n\nADJOURN:\n\n  \nStatement of Accommodations \nTo all persons desiring to attend and observe a meeting of the Caddo Parish Commission\, or who wish to present information to the body: If you have physical limitations that require special accommodations in order for you to attend and participate in a meeting of the Caddo Parish Commission\, please contact the office of the Caddo Parish Commission Clerk at (318) 226-6596\, at least 24 hours in advance of the meeting so that an effort can be made to provide those accommodations. \n  \n  \n  \n  \n 
URL:https://caddo.gov/event/regular-session-meeting-of-the-caddo-parish-commission-20/
LOCATION:Government Plaza\, 505 Travis Street\, 1st Floor\, Shreveport\, LA\, 71101\, United States
CATEGORIES:Regular Session
END:VEVENT
END:VCALENDAR