BEGIN:VCALENDAR
VERSION:2.0
PRODID:-//Parish of Caddo - ECPv6.15.20//NONSGML v1.0//EN
CALSCALE:GREGORIAN
METHOD:PUBLISH
X-ORIGINAL-URL:https://caddo.gov
X-WR-CALDESC:Events for Parish of Caddo
REFRESH-INTERVAL;VALUE=DURATION:PT1H
X-Robots-Tag:noindex
X-PUBLISHED-TTL:PT1H
BEGIN:VTIMEZONE
TZID:America/Chicago
BEGIN:DAYLIGHT
TZOFFSETFROM:-0600
TZOFFSETTO:-0500
TZNAME:CDT
DTSTART:20220313T080000
END:DAYLIGHT
BEGIN:STANDARD
TZOFFSETFROM:-0500
TZOFFSETTO:-0600
TZNAME:CST
DTSTART:20221106T070000
END:STANDARD
BEGIN:DAYLIGHT
TZOFFSETFROM:-0600
TZOFFSETTO:-0500
TZNAME:CDT
DTSTART:20230312T080000
END:DAYLIGHT
BEGIN:STANDARD
TZOFFSETFROM:-0500
TZOFFSETTO:-0600
TZNAME:CST
DTSTART:20231105T070000
END:STANDARD
BEGIN:DAYLIGHT
TZOFFSETFROM:-0600
TZOFFSETTO:-0500
TZNAME:CDT
DTSTART:20240310T080000
END:DAYLIGHT
BEGIN:STANDARD
TZOFFSETFROM:-0500
TZOFFSETTO:-0600
TZNAME:CST
DTSTART:20241103T070000
END:STANDARD
END:VTIMEZONE
BEGIN:VEVENT
DTSTART;VALUE=DATE:20230501
DTEND;VALUE=DATE:20230502
DTSTAMP:20260422T060151
CREATED:20240129T221011Z
LAST-MODIFIED:20240129T221011Z
UID:10000297-1682899200-1682985599@caddo.gov
SUMMARY:Veterans Affairs Committee
DESCRIPTION:Agenda \nMinutes
URL:https://caddo.gov/event/veterans-affairs-committee-2/
LOCATION:Government Plaza\, 505 Travis Street\, 1st Floor\, Shreveport\, LA\, 71101\, United States
CATEGORIES:Committee Meetings,Veterans Affairs Committee
END:VEVENT
BEGIN:VEVENT
DTSTART;VALUE=DATE:20230501
DTEND;VALUE=DATE:20230502
DTSTAMP:20260422T060151
CREATED:20240129T221059Z
LAST-MODIFIED:20240129T221059Z
UID:10000298-1682899200-1682985599@caddo.gov
SUMMARY:Juvenile Justice Committee Meeting
DESCRIPTION:Agenda \nMinutes
URL:https://caddo.gov/event/juvenile-justice-committee-meeting-6/
LOCATION:Government Plaza\, 505 Travis Street\, 1st Floor\, Shreveport\, LA\, 71101\, United States
CATEGORIES:Committee Meetings,Juvenile Justice Citizen's Advisory Committee
END:VEVENT
BEGIN:VEVENT
DTSTART;TZID=America/Chicago:20230501T080000
DTEND;TZID=America/Chicago:20230501T170000
DTSTAMP:20260422T060151
CREATED:20230302T202103Z
LAST-MODIFIED:20230302T202103Z
UID:10000190-1682928000-1682960400@caddo.gov
SUMMARY:Public Works Test Event
DESCRIPTION:Public Works Test Event
URL:https://caddo.gov/event/public-works-test-event/
LOCATION:Government Plaza\, 505 Travis Street\, 1st Floor\, Shreveport\, LA\, 71101\, United States
CATEGORIES:Public Works Calendar
END:VEVENT
BEGIN:VEVENT
DTSTART;TZID=America/Chicago:20230501T080000
DTEND;TZID=America/Chicago:20230501T170000
DTSTAMP:20260422T060151
CREATED:20230302T204406Z
LAST-MODIFIED:20230302T204406Z
UID:10000192-1682928000-1682960400@caddo.gov
SUMMARY:2024 NGO Application Period Opens - TBD
DESCRIPTION:2024 NGO Application Period Opens – TBD
URL:https://caddo.gov/event/2024-ngo-application-period-opens-tbd/
LOCATION:Government Plaza\, 505 Travis Street\, 1st Floor\, Shreveport\, LA\, 71101\, United States
CATEGORIES:Finance Calendar
END:VEVENT
BEGIN:VEVENT
DTSTART;TZID=America/Chicago:20230501T080000
DTEND;TZID=America/Chicago:20230501T170000
DTSTAMP:20260422T060151
CREATED:20230302T204439Z
LAST-MODIFIED:20230302T204439Z
UID:10000193-1682928000-1682960400@caddo.gov
SUMMARY:2024 NGO Application Deadline - TBD
DESCRIPTION:2024 NGO Application Deadline – TBD
URL:https://caddo.gov/event/2024-ngo-application-deadline-tbd/
LOCATION:Government Plaza\, 505 Travis Street\, 1st Floor\, Shreveport\, LA\, 71101\, United States
CATEGORIES:Finance Calendar
END:VEVENT
BEGIN:VEVENT
DTSTART;TZID=America/Chicago:20230501T080000
DTEND;TZID=America/Chicago:20230501T170000
DTSTAMP:20260422T060151
CREATED:20230302T204613Z
LAST-MODIFIED:20230302T204613Z
UID:10000195-1682928000-1682960400@caddo.gov
SUMMARY:Bridge Closures
DESCRIPTION:Bridge Closures
URL:https://caddo.gov/event/bridge-closures/
LOCATION:Government Plaza\, 505 Travis Street\, 1st Floor\, Shreveport\, LA\, 71101\, United States
CATEGORIES:Public Works Calendar
END:VEVENT
BEGIN:VEVENT
DTSTART;TZID=America/Chicago:20230501T080000
DTEND;TZID=America/Chicago:20230501T170000
DTSTAMP:20260422T060151
CREATED:20230302T210424Z
LAST-MODIFIED:20230302T210424Z
UID:10000196-1682928000-1682960400@caddo.gov
SUMMARY:New Employee Orientation
DESCRIPTION:
URL:https://caddo.gov/event/new-employee-orientation/
LOCATION:Government Plaza\, 505 Travis Street\, 1st Floor\, Shreveport\, LA\, 71101\, United States
CATEGORIES:Human Resources Calendar
END:VEVENT
BEGIN:VEVENT
DTSTART;TZID=America/Chicago:20230501T080000
DTEND;TZID=America/Chicago:20230501T170000
DTSTAMP:20260422T060151
CREATED:20230302T210503Z
LAST-MODIFIED:20230302T210503Z
UID:10000197-1682928000-1682960400@caddo.gov
SUMMARY:Training Events (link back to Onsite Training)
DESCRIPTION:
URL:https://caddo.gov/event/training-events-link-back-to-onsite-training/
LOCATION:Government Plaza\, 505 Travis Street\, 1st Floor\, Shreveport\, LA\, 71101\, United States
CATEGORIES:Human Resources Calendar
END:VEVENT
BEGIN:VEVENT
DTSTART;TZID=America/Chicago:20230501T080000
DTEND;TZID=America/Chicago:20230501T170000
DTSTAMP:20260422T060151
CREATED:20230302T210540Z
LAST-MODIFIED:20230302T210540Z
UID:10000198-1682928000-1682960400@caddo.gov
SUMMARY:Employee Service Awards Ceremony
DESCRIPTION:
URL:https://caddo.gov/event/employee-service-awards-ceremony/
LOCATION:Government Plaza\, 505 Travis Street\, 1st Floor\, Shreveport\, LA\, 71101\, United States
CATEGORIES:Human Resources Calendar
END:VEVENT
BEGIN:VEVENT
DTSTART;TZID=America/Chicago:20230501T153000
DTEND;TZID=America/Chicago:20230501T170000
DTSTAMP:20260422T060151
CREATED:20221220T161352Z
LAST-MODIFIED:20240624T191835Z
UID:10000151-1682955000-1682960400@caddo.gov
SUMMARY:Work Session Meeting
DESCRIPTION:5.1.2023 Work Session Agenda \n5.1.2023 Work Session Minutes
URL:https://caddo.gov/event/work-session-meeting-14/
LOCATION:Government Plaza\, 505 Travis Street\, 1st Floor\, Shreveport\, LA\, 71101\, United States
CATEGORIES:Work Session
END:VEVENT
BEGIN:VEVENT
DTSTART;VALUE=DATE:20230504
DTEND;VALUE=DATE:20230505
DTSTAMP:20260422T060151
CREATED:20240129T221139Z
LAST-MODIFIED:20240129T221139Z
UID:10000299-1683158400-1683244799@caddo.gov
SUMMARY:Long Range Planning and Special Projects Committee
DESCRIPTION:Agenda \nMinutes
URL:https://caddo.gov/event/long-range-planning-and-special-projects-committee-3/
LOCATION:Government Plaza\, 505 Travis Street\, 1st Floor\, Shreveport\, LA\, 71101\, United States
CATEGORIES:Committee Meetings,Long Range Planning Committee
END:VEVENT
BEGIN:VEVENT
DTSTART;TZID=America/Chicago:20230504T153000
DTEND;TZID=America/Chicago:20230504T170000
DTSTAMP:20260422T060151
CREATED:20221220T161412Z
LAST-MODIFIED:20240624T191932Z
UID:10000152-1683214200-1683219600@caddo.gov
SUMMARY:Regular Session Meeting
DESCRIPTION:5.4.2023 Regular Session Agenda \n5.4.2023 Regular Session Minutes
URL:https://caddo.gov/event/regular-session-meeting-14/
LOCATION:Government Plaza\, 505 Travis Street\, 1st Floor\, Shreveport\, LA\, 71101\, United States
CATEGORIES:Regular Session
END:VEVENT
END:VCALENDAR