BEGIN:VCALENDAR
VERSION:2.0
PRODID:-//Parish of Caddo - ECPv6.15.20//NONSGML v1.0//EN
CALSCALE:GREGORIAN
METHOD:PUBLISH
X-ORIGINAL-URL:https://caddo.gov
X-WR-CALDESC:Events for Parish of Caddo
REFRESH-INTERVAL;VALUE=DURATION:PT1H
X-Robots-Tag:noindex
X-PUBLISHED-TTL:PT1H
BEGIN:VTIMEZONE
TZID:America/Chicago
BEGIN:DAYLIGHT
TZOFFSETFROM:-0600
TZOFFSETTO:-0500
TZNAME:CDT
DTSTART:20210314T080000
END:DAYLIGHT
BEGIN:STANDARD
TZOFFSETFROM:-0500
TZOFFSETTO:-0600
TZNAME:CST
DTSTART:20211107T070000
END:STANDARD
BEGIN:DAYLIGHT
TZOFFSETFROM:-0600
TZOFFSETTO:-0500
TZNAME:CDT
DTSTART:20220313T080000
END:DAYLIGHT
BEGIN:STANDARD
TZOFFSETFROM:-0500
TZOFFSETTO:-0600
TZNAME:CST
DTSTART:20221106T070000
END:STANDARD
BEGIN:DAYLIGHT
TZOFFSETFROM:-0600
TZOFFSETTO:-0500
TZNAME:CDT
DTSTART:20230312T080000
END:DAYLIGHT
BEGIN:STANDARD
TZOFFSETFROM:-0500
TZOFFSETTO:-0600
TZNAME:CST
DTSTART:20231105T070000
END:STANDARD
END:VTIMEZONE
BEGIN:VEVENT
DTSTART;VALUE=DATE:20221017
DTEND;VALUE=DATE:20221018
DTSTAMP:20260424T035801
CREATED:20221128T173006Z
LAST-MODIFIED:20221128T173006Z
UID:10000033-1665964800-1666051199@caddo.gov
SUMMARY:American Rescue Plan Committee Meeting
DESCRIPTION:
URL:https://caddo.gov/event/american-rescue-plan-committee-meeting/
LOCATION:Government Plaza\, 505 Travis Street\, 1st Floor\, Shreveport\, LA\, 71101\, United States
CATEGORIES:American Rescue Plan Committee,Committee Meetings
END:VEVENT
BEGIN:VEVENT
DTSTART;VALUE=DATE:20221017
DTEND;VALUE=DATE:20221018
DTSTAMP:20260424T035801
CREATED:20221128T173113Z
LAST-MODIFIED:20221128T173113Z
UID:10000034-1665964800-1666051199@caddo.gov
SUMMARY:Appropriations Committee Meeting
DESCRIPTION:
URL:https://caddo.gov/event/appropriations-committee-meeting/
LOCATION:Government Plaza\, 505 Travis Street\, 1st Floor\, Shreveport\, LA\, 71101\, United States
CATEGORIES:Appropriations Committee (NGO),Committee Meetings
END:VEVENT
BEGIN:VEVENT
DTSTART;VALUE=DATE:20221017
DTEND;VALUE=DATE:20221018
DTSTAMP:20260424T035801
CREATED:20221128T173208Z
LAST-MODIFIED:20221128T173208Z
UID:10000035-1665964800-1666051199@caddo.gov
SUMMARY:Long Range Planning Committee Meeting
DESCRIPTION:
URL:https://caddo.gov/event/long-range-planning-committee-meeting-2/
LOCATION:Government Plaza\, 505 Travis Street\, 1st Floor\, Shreveport\, LA\, 71101\, United States
CATEGORIES:Committee Meetings,Long Range Planning Committee
END:VEVENT
BEGIN:VEVENT
DTSTART;TZID=America/Chicago:20221017T153000
DTEND;TZID=America/Chicago:20221017T170000
DTSTAMP:20260424T035801
CREATED:20221128T160350Z
LAST-MODIFIED:20221128T214409Z
UID:10000009-1666020600-1666026000@caddo.gov
SUMMARY:Work Session Meeting
DESCRIPTION:
URL:https://caddo.gov/event/work-session-meeting-3/
LOCATION:Government Plaza\, 505 Travis Street\, 1st Floor\, Shreveport\, LA\, 71101\, United States
CATEGORIES:Work Session
END:VEVENT
BEGIN:VEVENT
DTSTART;VALUE=DATE:20221020
DTEND;VALUE=DATE:20221021
DTSTAMP:20260424T035801
CREATED:20221128T172711Z
LAST-MODIFIED:20221128T172742Z
UID:10000032-1666224000-1666310399@caddo.gov
SUMMARY:Alcoholic Beverage Committee Meeting
DESCRIPTION:
URL:https://caddo.gov/event/alcoholic-beverage-committee-meeting/
LOCATION:Government Plaza\, 505 Travis Street\, 1st Floor\, Shreveport\, LA\, 71101\, United States
CATEGORIES:Alcoholic Beverage Committee Hearing Agenda,Committee Meetings
END:VEVENT
BEGIN:VEVENT
DTSTART;TZID=America/Chicago:20221020T153000
DTEND;TZID=America/Chicago:20221020T170000
DTSTAMP:20260424T035801
CREATED:20221122T214247Z
LAST-MODIFIED:20221122T214247Z
UID:10000008-1666279800-1666285200@caddo.gov
SUMMARY:Regular Session Meeting
DESCRIPTION:
URL:https://caddo.gov/event/regular-session-meeting-3/
LOCATION:Government Plaza\, 505 Travis Street\, 1st Floor\, Shreveport\, LA\, 71101\, United States
CATEGORIES:Regular Session
END:VEVENT
BEGIN:VEVENT
DTSTART;TZID=America/Chicago:20221020T153000
DTEND;TZID=America/Chicago:20221020T170000
DTSTAMP:20260424T035801
CREATED:20221128T222426Z
LAST-MODIFIED:20221128T222426Z
UID:10000111-1666279800-1666285200@caddo.gov
SUMMARY:Regular Session
DESCRIPTION:
URL:https://caddo.gov/event/regular-session-3/
LOCATION:Government Plaza\, 505 Travis Street\, 1st Floor\, Shreveport\, LA\, 71101\, United States
CATEGORIES:Regular Session
END:VEVENT
END:VCALENDAR