BEGIN:VCALENDAR
VERSION:2.0
PRODID:-//Parish of Caddo - ECPv6.15.20//NONSGML v1.0//EN
CALSCALE:GREGORIAN
METHOD:PUBLISH
X-WR-CALNAME:Parish of Caddo
X-ORIGINAL-URL:https://caddo.gov
X-WR-CALDESC:Events for Parish of Caddo
REFRESH-INTERVAL;VALUE=DURATION:PT1H
X-Robots-Tag:noindex
X-PUBLISHED-TTL:PT1H
BEGIN:VTIMEZONE
TZID:America/Chicago
BEGIN:DAYLIGHT
TZOFFSETFROM:-0600
TZOFFSETTO:-0500
TZNAME:CDT
DTSTART:20210314T080000
END:DAYLIGHT
BEGIN:STANDARD
TZOFFSETFROM:-0500
TZOFFSETTO:-0600
TZNAME:CST
DTSTART:20211107T070000
END:STANDARD
BEGIN:DAYLIGHT
TZOFFSETFROM:-0600
TZOFFSETTO:-0500
TZNAME:CDT
DTSTART:20220313T080000
END:DAYLIGHT
BEGIN:STANDARD
TZOFFSETFROM:-0500
TZOFFSETTO:-0600
TZNAME:CST
DTSTART:20221106T070000
END:STANDARD
BEGIN:DAYLIGHT
TZOFFSETFROM:-0600
TZOFFSETTO:-0500
TZNAME:CDT
DTSTART:20230312T080000
END:DAYLIGHT
BEGIN:STANDARD
TZOFFSETFROM:-0500
TZOFFSETTO:-0600
TZNAME:CST
DTSTART:20231105T070000
END:STANDARD
END:VTIMEZONE
BEGIN:VEVENT
DTSTART;VALUE=DATE:20220919
DTEND;VALUE=DATE:20220920
DTSTAMP:20260423T224240
CREATED:20221128T165651Z
LAST-MODIFIED:20221128T165651Z
UID:10000024-1663545600-1663631999@caddo.gov
SUMMARY:Special Session 2023 Tax Board of Review
DESCRIPTION:
URL:https://caddo.gov/event/special-session-2023-tax-board-of-review/
LOCATION:Government Plaza\, 505 Travis Street\, 1st Floor\, Shreveport\, LA\, 71101\, United States
CATEGORIES:Special Session
END:VEVENT
BEGIN:VEVENT
DTSTART;VALUE=DATE:20220919
DTEND;VALUE=DATE:20220920
DTSTAMP:20260423T224240
CREATED:20221128T173805Z
LAST-MODIFIED:20221128T173805Z
UID:10000041-1663545600-1663631999@caddo.gov
SUMMARY:American Rescue Plan Committee Meeting
DESCRIPTION:
URL:https://caddo.gov/event/american-rescue-plan-committee-meeting-2/
LOCATION:Government Plaza\, 505 Travis Street\, 1st Floor\, Shreveport\, LA\, 71101\, United States
CATEGORIES:American Rescue Plan Committee,Committee Meetings
END:VEVENT
BEGIN:VEVENT
DTSTART;VALUE=DATE:20220919
DTEND;VALUE=DATE:20220920
DTSTAMP:20260423T224240
CREATED:20221128T173919Z
LAST-MODIFIED:20221128T173919Z
UID:10000042-1663545600-1663631999@caddo.gov
SUMMARY:Broadband Community Advisory Committee Meeting
DESCRIPTION:
URL:https://caddo.gov/event/broadband-community-advisory-committee-meeting/
LOCATION:Government Plaza\, 505 Travis Street\, 1st Floor\, Shreveport\, LA\, 71101\, United States
CATEGORIES:Broadband Community Advisory Committee,Committee Meetings
END:VEVENT
BEGIN:VEVENT
DTSTART;TZID=America/Chicago:20220919T153000
DTEND;TZID=America/Chicago:20220919T170000
DTSTAMP:20260423T224240
CREATED:20221128T214827Z
LAST-MODIFIED:20221128T214827Z
UID:10000093-1663601400-1663606800@caddo.gov
SUMMARY:Work Session
DESCRIPTION: 
URL:https://caddo.gov/event/work-session-2/
LOCATION:Government Plaza\, 505 Travis Street\, 1st Floor\, Shreveport\, LA\, 71101\, United States
CATEGORIES:Work Session
END:VEVENT
BEGIN:VEVENT
DTSTART;VALUE=DATE:20220920
DTEND;VALUE=DATE:20220921
DTSTAMP:20260423T224240
CREATED:20221128T173714Z
LAST-MODIFIED:20221128T173714Z
UID:10000040-1663632000-1663718399@caddo.gov
SUMMARY:Economic Development Committee Meeting
DESCRIPTION:
URL:https://caddo.gov/event/economic-development-committee-meeting-2/
LOCATION:Government Plaza\, 505 Travis Street\, 1st Floor\, Shreveport\, LA\, 71101\, United States
CATEGORIES:Committee Meetings,Economic Development Committee
END:VEVENT
BEGIN:VEVENT
DTSTART;VALUE=DATE:20220922
DTEND;VALUE=DATE:20220923
DTSTAMP:20260423T224240
CREATED:20221128T173612Z
LAST-MODIFIED:20221128T173612Z
UID:10000039-1663804800-1663891199@caddo.gov
SUMMARY:Veterans Affairs Committee Meeting
DESCRIPTION:
URL:https://caddo.gov/event/veterans-affairs-committee-meeting/
LOCATION:Government Plaza\, 505 Travis Street\, 1st Floor\, Shreveport\, LA\, 71101\, United States
CATEGORIES:Committee Meetings,Veterans Affairs Committee
END:VEVENT
BEGIN:VEVENT
DTSTART;TZID=America/Chicago:20220922T153000
DTEND;TZID=America/Chicago:20220922T170000
DTSTAMP:20260423T224240
CREATED:20221128T222638Z
LAST-MODIFIED:20221128T222638Z
UID:10000113-1663860600-1663866000@caddo.gov
SUMMARY:Regular Session
DESCRIPTION:
URL:https://caddo.gov/event/regular-session-5/
LOCATION:Government Plaza\, 505 Travis Street\, 1st Floor\, Shreveport\, LA\, 71101\, United States
CATEGORIES:Regular Session
END:VEVENT
END:VCALENDAR