BEGIN:VCALENDAR
VERSION:2.0
PRODID:-//Parish of Caddo - ECPv6.15.20//NONSGML v1.0//EN
CALSCALE:GREGORIAN
METHOD:PUBLISH
X-ORIGINAL-URL:https://caddo.gov
X-WR-CALDESC:Events for Parish of Caddo
REFRESH-INTERVAL;VALUE=DURATION:PT1H
X-Robots-Tag:noindex
X-PUBLISHED-TTL:PT1H
BEGIN:VTIMEZONE
TZID:America/Chicago
BEGIN:DAYLIGHT
TZOFFSETFROM:-0600
TZOFFSETTO:-0500
TZNAME:CDT
DTSTART:20230312T080000
END:DAYLIGHT
BEGIN:STANDARD
TZOFFSETFROM:-0500
TZOFFSETTO:-0600
TZNAME:CST
DTSTART:20231105T070000
END:STANDARD
BEGIN:DAYLIGHT
TZOFFSETFROM:-0600
TZOFFSETTO:-0500
TZNAME:CDT
DTSTART:20240310T080000
END:DAYLIGHT
BEGIN:STANDARD
TZOFFSETFROM:-0500
TZOFFSETTO:-0600
TZNAME:CST
DTSTART:20241103T070000
END:STANDARD
BEGIN:DAYLIGHT
TZOFFSETFROM:-0600
TZOFFSETTO:-0500
TZNAME:CDT
DTSTART:20250309T080000
END:DAYLIGHT
BEGIN:STANDARD
TZOFFSETFROM:-0500
TZOFFSETTO:-0600
TZNAME:CST
DTSTART:20251102T070000
END:STANDARD
END:VTIMEZONE
BEGIN:VEVENT
DTSTART;VALUE=DATE:20240103
DTEND;VALUE=DATE:20240104
DTSTAMP:20260419T085149
CREATED:20240129T170227Z
LAST-MODIFIED:20240613T221535Z
UID:10000247-1704240000-1704326399@caddo.gov
SUMMARY:Work Session
DESCRIPTION:1.3.2024 Work Session Agenda \n1.3.2024 Work Session Minutes
URL:https://caddo.gov/event/work-session-28/
LOCATION:Government Plaza\, 505 Travis Street\, 1st Floor\, Shreveport\, LA\, 71101\, United States
CATEGORIES:Work Session
END:VEVENT
BEGIN:VEVENT
DTSTART;VALUE=DATE:20240104
DTEND;VALUE=DATE:20240105
DTSTAMP:20260419T085149
CREATED:20240129T165059Z
LAST-MODIFIED:20240614T175819Z
UID:10000240-1704326400-1704412799@caddo.gov
SUMMARY:Regular Session Meeting
DESCRIPTION:1.4.2024 Regular Session Agenda \n1.4.2024 Regular Session Minutes
URL:https://caddo.gov/event/regular-session-meeting-31/
LOCATION:Government Plaza\, 505 Travis Street\, 1st Floor\, Shreveport\, LA\, 71101\, United States
CATEGORIES:Regular Session
END:VEVENT
BEGIN:VEVENT
DTSTART;VALUE=DATE:20240108
DTEND;VALUE=DATE:20240109
DTSTAMP:20260419T085149
CREATED:20240129T170537Z
LAST-MODIFIED:20240614T180118Z
UID:10000250-1704672000-1704758399@caddo.gov
SUMMARY:Special Session - Swearing in of Commissioners
DESCRIPTION:1.8.2024 Special Session Agenda \n1.8.2024 Special Session Minutes \n 
URL:https://caddo.gov/event/special-session-swearing-in-of-commissioners/
LOCATION:Government Plaza\, 505 Travis Street\, 1st Floor\, Shreveport\, LA\, 71101\, United States
CATEGORIES:Special Session
END:VEVENT
BEGIN:VEVENT
DTSTART;VALUE=DATE:20240116
DTEND;VALUE=DATE:20240117
DTSTAMP:20260419T085149
CREATED:20240129T165901Z
LAST-MODIFIED:20240129T170006Z
UID:10000246-1705363200-1705449599@caddo.gov
SUMMARY:Work Session
DESCRIPTION:Minutes \nAgenda
URL:https://caddo.gov/event/work-session-27/
LOCATION:Government Plaza\, 505 Travis Street\, 1st Floor\, Shreveport\, LA\, 71101\, United States
CATEGORIES:Work Session
END:VEVENT
BEGIN:VEVENT
DTSTART;VALUE=DATE:20240118
DTEND;VALUE=DATE:20240119
DTSTAMP:20260419T085149
CREATED:20240129T164950Z
LAST-MODIFIED:20240617T143430Z
UID:10000237-1705536000-1705622399@caddo.gov
SUMMARY:Regular Session Meeting
DESCRIPTION:1.18.2024 Regular Session Agenda \n1.18.2024 Regular Session Minutes
URL:https://caddo.gov/event/regular-session-meeting-30/
LOCATION:Government Plaza\, 505 Travis Street\, 1st Floor\, Shreveport\, LA\, 71101\, United States
CATEGORIES:Regular Session
END:VEVENT
BEGIN:VEVENT
DTSTART;VALUE=DATE:20240118
DTEND;VALUE=DATE:20240119
DTSTAMP:20260419T085149
CREATED:20240129T170756Z
LAST-MODIFIED:20240617T143622Z
UID:10000252-1705536000-1705622399@caddo.gov
SUMMARY:Special Meeting to Address District 6 Vacancy
DESCRIPTION:1.18.2024 Special Session Agenda \n1.18.2024 Special Session Minutes \n 
URL:https://caddo.gov/event/special-meeting-to-address-district-6-vacancy/
LOCATION:Government Plaza\, 505 Travis Street\, 1st Floor\, Shreveport\, LA\, 71101\, United States
CATEGORIES:Special Session
END:VEVENT
BEGIN:VEVENT
DTSTART;VALUE=DATE:20240124
DTEND;VALUE=DATE:20240125
DTSTAMP:20260419T085149
CREATED:20240129T171049Z
LAST-MODIFIED:20240723T170208Z
UID:10000254-1706054400-1706140799@caddo.gov
SUMMARY:Special Meeting to Address Constable Vacancy in Ward 3-Mooringsport District
DESCRIPTION:1.24.2024 Special Session Agenda \n1.24.2024 Special Session Minutes
URL:https://caddo.gov/event/special-meeting-to-address-constable-vacancy-in-ward-3-mooringsport-district/
LOCATION:Government Plaza\, 505 Travis Street\, 1st Floor\, Shreveport\, LA\, 71101\, United States
CATEGORIES:Special Session
END:VEVENT
END:VCALENDAR