BEGIN:VCALENDAR
VERSION:2.0
PRODID:-//Parish of Caddo - ECPv6.15.20//NONSGML v1.0//EN
CALSCALE:GREGORIAN
METHOD:PUBLISH
X-WR-CALNAME:Parish of Caddo
X-ORIGINAL-URL:https://caddo.gov
X-WR-CALDESC:Events for Parish of Caddo
REFRESH-INTERVAL;VALUE=DURATION:PT1H
X-Robots-Tag:noindex
X-PUBLISHED-TTL:PT1H
BEGIN:VTIMEZONE
TZID:America/Chicago
BEGIN:DAYLIGHT
TZOFFSETFROM:-0600
TZOFFSETTO:-0500
TZNAME:CDT
DTSTART:20210314T080000
END:DAYLIGHT
BEGIN:STANDARD
TZOFFSETFROM:-0500
TZOFFSETTO:-0600
TZNAME:CST
DTSTART:20211107T070000
END:STANDARD
BEGIN:DAYLIGHT
TZOFFSETFROM:-0600
TZOFFSETTO:-0500
TZNAME:CDT
DTSTART:20220313T080000
END:DAYLIGHT
BEGIN:STANDARD
TZOFFSETFROM:-0500
TZOFFSETTO:-0600
TZNAME:CST
DTSTART:20221106T070000
END:STANDARD
BEGIN:DAYLIGHT
TZOFFSETFROM:-0600
TZOFFSETTO:-0500
TZNAME:CDT
DTSTART:20230312T080000
END:DAYLIGHT
BEGIN:STANDARD
TZOFFSETFROM:-0500
TZOFFSETTO:-0600
TZNAME:CST
DTSTART:20231105T070000
END:STANDARD
END:VTIMEZONE
BEGIN:VEVENT
DTSTART;VALUE=DATE:20221103
DTEND;VALUE=DATE:20221104
DTSTAMP:20260420T092412
CREATED:20221128T172611Z
LAST-MODIFIED:20221128T172831Z
UID:10000031-1667433600-1667519999@caddo.gov
SUMMARY:Appropriations Committee (NGO)
DESCRIPTION:
URL:https://caddo.gov/event/appropriations-committee-ngo/
LOCATION:Government Plaza\, 505 Travis Street\, 1st Floor\, Shreveport\, LA\, 71101\, United States
CATEGORIES:Appropriations Committee (NGO),Committee Meetings
END:VEVENT
BEGIN:VEVENT
DTSTART;TZID=America/Chicago:20221103T153000
DTEND;TZID=America/Chicago:20221103T170000
DTSTAMP:20260420T092412
CREATED:20221122T213632Z
LAST-MODIFIED:20221122T213632Z
UID:10000001-1667489400-1667494800@caddo.gov
SUMMARY:Regular Session Meeting
DESCRIPTION:
URL:https://caddo.gov/event/regular-session-meeting/
LOCATION:Government Plaza\, 505 Travis Street\, 1st Floor\, Shreveport\, LA\, 71101\, United States
CATEGORIES:Regular Session
END:VEVENT
BEGIN:VEVENT
DTSTART;TZID=America/Chicago:20221103T153000
DTEND;TZID=America/Chicago:20221103T170000
DTSTAMP:20260420T092412
CREATED:20221128T222310Z
LAST-MODIFIED:20221128T222310Z
UID:10000110-1667489400-1667494800@caddo.gov
SUMMARY:Regular Session
DESCRIPTION:
URL:https://caddo.gov/event/regular-session-2/
LOCATION:Government Plaza\, 505 Travis Street\, 1st Floor\, Shreveport\, LA\, 71101\, United States
CATEGORIES:Regular Session
END:VEVENT
BEGIN:VEVENT
DTSTART;VALUE=DATE:20221108
DTEND;VALUE=DATE:20221109
DTSTAMP:20260420T092412
CREATED:20221122T213723Z
LAST-MODIFIED:20221220T161717Z
UID:10000002-1667865600-1667951999@caddo.gov
SUMMARY:Election Day
DESCRIPTION:
URL:https://caddo.gov/event/election-day/
LOCATION:LA
CATEGORIES:Holiday
END:VEVENT
BEGIN:VEVENT
DTSTART;VALUE=DATE:20221110
DTEND;VALUE=DATE:20221111
DTSTAMP:20260420T092412
CREATED:20221128T172502Z
LAST-MODIFIED:20221220T161716Z
UID:10000030-1668038400-1668124799@caddo.gov
SUMMARY:Audit & Finance Committee Meeting
DESCRIPTION:
URL:https://caddo.gov/event/audit-finance-committee-meeting/
LOCATION:Government Plaza\, 505 Travis Street\, 1st Floor\, Shreveport\, LA\, 71101\, United States
CATEGORIES:Audit & Finance Committee,Committee Meetings
END:VEVENT
BEGIN:VEVENT
DTSTART;VALUE=DATE:20221111
DTEND;VALUE=DATE:20221112
DTSTAMP:20260420T092412
CREATED:20221122T213812Z
LAST-MODIFIED:20221220T161716Z
UID:10000003-1668124800-1668211199@caddo.gov
SUMMARY:Veterans Day
DESCRIPTION:The Caddo Parish Commission Clerk’s Office will be closed in observance of Veterans Day.
URL:https://caddo.gov/event/veterans-day/
LOCATION:LA
CATEGORIES:Holiday
END:VEVENT
BEGIN:VEVENT
DTSTART;TZID=America/Chicago:20221114T153000
DTEND;TZID=America/Chicago:20221114T170000
DTSTAMP:20260420T092412
CREATED:20221122T213915Z
LAST-MODIFIED:20221220T161715Z
UID:10000004-1668439800-1668445200@caddo.gov
SUMMARY:Work Session Meeting
DESCRIPTION:
URL:https://caddo.gov/event/work-session-meeting/
LOCATION:Government Plaza\, 505 Travis Street\, 1st Floor\, Shreveport\, LA\, 71101\, United States
CATEGORIES:Work Session
END:VEVENT
BEGIN:VEVENT
DTSTART;VALUE=DATE:20221115
DTEND;VALUE=DATE:20221116
DTSTAMP:20260420T092412
CREATED:20221128T172356Z
LAST-MODIFIED:20221220T161715Z
UID:10000029-1668470400-1668556799@caddo.gov
SUMMARY:Juvenile Justice Citizen's Advisory Committee Meeting
DESCRIPTION:
URL:https://caddo.gov/event/juvenile-justice-citizens-advisory-committee-meeting/
LOCATION:Government Plaza\, 505 Travis Street\, 1st Floor\, Shreveport\, LA\, 71101\, United States
CATEGORIES:Committee Meetings,Juvenile Justice Citizen's Advisory Committee
END:VEVENT
BEGIN:VEVENT
DTSTART;VALUE=DATE:20221116
DTEND;VALUE=DATE:20221117
DTSTAMP:20260420T092412
CREATED:20221128T172148Z
LAST-MODIFIED:20221220T161715Z
UID:10000028-1668556800-1668643199@caddo.gov
SUMMARY:Long Range Planning Committee Meeting
DESCRIPTION:
URL:https://caddo.gov/event/long-range-planning-committee-meeting/
LOCATION:Government Plaza\, 505 Travis Street\, 1st Floor\, Shreveport\, LA\, 71101\, United States
CATEGORIES:Committee Meetings,Long Range Planning Committee
END:VEVENT
BEGIN:VEVENT
DTSTART;TZID=America/Chicago:20221117T153000
DTEND;TZID=America/Chicago:20221117T170000
DTSTAMP:20260420T092412
CREATED:20221122T214011Z
LAST-MODIFIED:20221220T161714Z
UID:10000005-1668699000-1668704400@caddo.gov
SUMMARY:Regular Session Meeting
DESCRIPTION:
URL:https://caddo.gov/event/regular-session-meeting-2/
LOCATION:Government Plaza\, 505 Travis Street\, 1st Floor\, Shreveport\, LA\, 71101\, United States
CATEGORIES:Regular Session
END:VEVENT
BEGIN:VEVENT
DTSTART;TZID=America/Chicago:20221117T153000
DTEND;TZID=America/Chicago:20221117T170000
DTSTAMP:20260420T092412
CREATED:20221128T222154Z
LAST-MODIFIED:20221220T161714Z
UID:10000109-1668699000-1668704400@caddo.gov
SUMMARY:Regular Session
DESCRIPTION:
URL:https://caddo.gov/event/regular-session/
LOCATION:Government Plaza\, 505 Travis Street\, 1st Floor\, Shreveport\, LA\, 71101\, United States
CATEGORIES:Regular Session
END:VEVENT
BEGIN:VEVENT
DTSTART;VALUE=DATE:20221124
DTEND;VALUE=DATE:20221126
DTSTAMP:20260420T092412
CREATED:20221122T214044Z
LAST-MODIFIED:20221220T161714Z
UID:10000006-1669248000-1669420799@caddo.gov
SUMMARY:Thanksgiving
DESCRIPTION:The Caddo Parish Commission Clerk’s Office will be closed in observance of Thanksgiving.
URL:https://caddo.gov/event/thanksgiving/
LOCATION:Government Plaza\, 505 Travis Street\, 1st Floor\, Shreveport\, LA\, 71101\, United States
CATEGORIES:Holiday
END:VEVENT
END:VCALENDAR