BEGIN:VCALENDAR
VERSION:2.0
PRODID:-//Parish of Caddo - ECPv6.15.20//NONSGML v1.0//EN
CALSCALE:GREGORIAN
METHOD:PUBLISH
X-WR-CALNAME:Parish of Caddo
X-ORIGINAL-URL:https://caddo.gov
X-WR-CALDESC:Events for Parish of Caddo
REFRESH-INTERVAL;VALUE=DURATION:PT1H
X-Robots-Tag:noindex
X-PUBLISHED-TTL:PT1H
BEGIN:VTIMEZONE
TZID:America/Chicago
BEGIN:DAYLIGHT
TZOFFSETFROM:-0600
TZOFFSETTO:-0500
TZNAME:CDT
DTSTART:20250309T080000
END:DAYLIGHT
BEGIN:STANDARD
TZOFFSETFROM:-0500
TZOFFSETTO:-0600
TZNAME:CST
DTSTART:20251102T070000
END:STANDARD
BEGIN:DAYLIGHT
TZOFFSETFROM:-0600
TZOFFSETTO:-0500
TZNAME:CDT
DTSTART:20260308T080000
END:DAYLIGHT
BEGIN:STANDARD
TZOFFSETFROM:-0500
TZOFFSETTO:-0600
TZNAME:CST
DTSTART:20261101T070000
END:STANDARD
BEGIN:DAYLIGHT
TZOFFSETFROM:-0600
TZOFFSETTO:-0500
TZNAME:CDT
DTSTART:20270314T080000
END:DAYLIGHT
BEGIN:STANDARD
TZOFFSETFROM:-0500
TZOFFSETTO:-0600
TZNAME:CST
DTSTART:20271107T070000
END:STANDARD
END:VTIMEZONE
BEGIN:VEVENT
DTSTART;TZID=America/Chicago:20260105T153000
DTEND;TZID=America/Chicago:20260105T170000
DTSTAMP:20260420T183241
CREATED:20251230T175717Z
LAST-MODIFIED:20260105T182324Z
UID:10000628-1767627000-1767632400@caddo.gov
SUMMARY:Caddo Parish Commission Work Session
DESCRIPTION:CADDO PARISH COMMISSION\n505 TRAVIS STREET\, GOVERNMENT PLAZA\nPUBLIC NOTICE\nWORK SESSION AGENDA\nStreaming at https://www.youtube.com/@parishofcaddois  \nJanuary 5\, 2026\n3:30 P.M. \n\nROLL CALL:\n\n            Commissioners: \n\n\n\nDistrict 1\nKracman\nDistrict 7\nGage-Watts\n\n\nDistrict 2\nYoung\, G. \nDistrict 8\nBlake\n\n\nDistrict 3\nThomas\nDistrict 9\nAtkins\n\n\nDistrict 4\nYoung\, J.P. \nDistrict 10\nCothran\n\n\nDistrict 5\nBurrell\nDistrict 11 \nLazarus\n\n\nDistrict 6\nJones\nDistrict 12\nEpperson\n\n\n\n  \n  \n  \n\nINVOCATION:\n\n  \n\nPLEDGE OF ALLEGIANCE:\n\nVeterans and active military members saluting during recitation of the Pledge of Allegiance would be appropriate\, should you wish to do so. All others\, please recite with your hands over your hearts\, and we ask that everyone please remember our POW-MIA’s as we say the Pledge of Allegiance. \n  \n\nAGENDA ADDITIONS:\n\n4.1 POTENTIAL AGENDA ADDITION: Advance Resolution 4 of 2026 \nA RESOLUTION APPROVING THE HOLDING OF AN ELECTION IN CADDO PARISH FIRE DISTRICT NUMBER FIVE\, STATE OF LOUISIANA\, ON SATURDAY\, MAY 16\, 2026\, TO AUTHORIZE THE LEVY OF SERVICE CHARGES THEREIN. \n(Districts 8 & 9) \n\nCITIZENS COMMENTS:\n\nCitizens who wish to address the Commission on any issue other than zoning\, please fill out a comment card located in the chamber foyer and return to the President or the Clerk of the Commission.  Individual comments are limited to 3 minutes. \n           \n\nVISITORS:\n\n  \n\nREPORTS:\n\nAdmin Report \n  \n\nCOMMISSION REMARKS:\n\n                        Communiques\, reports\, and other items related to Work Session Agenda. \n  \n\nPRESIDENT’S REPORT:\n\n  \n10. OLD BUSINESS: \n\nNEW BUSINESS:\n\n11.1 Advance Resolution 1 of 2026 \nA RESOLUTION TO AUTHORIZE DESIGN WAIVER/EXCEPTIONS TO HOSSTON RIVER ROAD BRIDGE WHICH IS IN THE FEDERAL OFF-SYSTEM BRIDGE REHABILITATION AND REPLACEMENT PROGRAM\, AND OTHERWISE PROVIDING WITH RESPECT THERETO Exh 1 \n(District 1) \n11.2 Advance Resolution No. 2 of 2026 \nA RESOLUTION APPROVING THE AMENDED 2025 AND PROPOSED 2026 BUDGETS OF THE NORTH LOUISIANA CRIMINALISTICS LABORATORY COMMISSION AND TO OTHERWISE PROVIDE WITH RESPECT THERETO \n(District 5) Exh 1 \n11.3   Advanced Resolution No. 3 of 2026 \nRESOLUTION REQUESTING THE CADDO PARISH SCHOOL BOARD TO CONSIDER THE ECONOMIC DEVELOPMENT POTENTIAL OF THE SITE OF THE FORMER GEORGE WASHINGTON CARVER SCHOOL\, WITH PARTICULAR CONSIDERATION OF THE SITE’S POTENTIAL TO SERVE THE GROWING DEMAND FOR DATA CENTERS\, AND OTHERWISE PROVIDING WITH RESPECT THERETO. \n(Epperson) \n11.4 Advance Special Resolution Recognizing Human Trafficking Awareness Month \n(Blake) \n11.5 Advance Special Resolution of Recognition for Operation Santa Clause \n(Blake) \n11.6 Advance Special Resolution Recognizing National Law Enforcement Appreciation Day \n(Blake) \n11.7 Advance Special Resolution of Recognition for Caddo High School Principal of the Year\, Shannon Wall of Northwood High School \n(Jones\, Kracman) \n11.8 Advance Special Resolution of Recognition for Caddo Elementary School Principal of the Year\, Courtney LeBlanc of A.C. Steere Elementary \n(Blake) \n11.9 Advance Special Resolution of Recognition for Caddo Middle School Principal of the Year\, Felicia O’Neal of Ridgewood Middle School\, \n(Cothran) \n11.10 Advance the authorization of Commission travel to Shelby County (Memphis\, Tennessee) to visit local government\, and surrounding communities\, to gather information relative to data center development. \n(Epperson) \n11.11 Advance Confirmation of Human Resources Director Exh 1 \n(Administration) \n11.12   Discussion of Chamber decorum by citizens during Commission meetings \n(Epperson) \n  \n\nCOMMUNIQUES AND COMMITTEE REPORTS:\n\n  \n\nCITIZENS COMMENTS (Late Arrivals):\n\nCitizens who wish to address the Commission please fill out a comment card located in the chamber foyer\, and return to the Chairman or the Clerk of the Commission. Individual comments are limited to 3 minutes. \n  \n\nCONSENT AGENDA:\n\n14.1 Adopt  Ordinance 6604 of 2025 \nAN ORDINANCE PROVIDING FOR THE ISSUANCE AND SALE OF LIMITED TAX REVENUE BONDS\, SERIES 2026\, OF CADDO PARISH\, LOUISIANA; AND PROVIDING FOR OTHER MATTERS IN CONNECTION THEREWITH. (Administration) \n  \n14.2 Adopt  Ordinance 6605 of 2025 \nAN ORDINANCE DECLARING THE INTENT OF THE PARISH OF CADDO\, UNDER LA. R.S. 47:2236 TO ACQUIRE FULL OWNERSHIP INTEREST IN A TRACT OF PROPERTY IN THE MANCHESTER SUBDIVISION\, WITHIN SECTION 26\, TOWNSHIP 18 NORTH – RANGE 14 WEST\, CADDO PARISH\, LOUISIANA\, AND TO OTHERWISE PROVIDE WITH RESPECT THERETO \n(District 3) \n  \n\nADJOURN:\n\n  \nStatement of Accommodations \nTo all persons desiring to attend and observe a meeting of the Caddo Parish Commission\, or who wish to present information to the body: If you have physical limitations that require special accommodations in order for you to attend and participate in a meeting of the Caddo Parish Commission\, please contact the office of the Caddo Parish Commission Clerk at (318) 226-6596\, at least 24 hours in advance of the meeting so that an effort can be made to provide those accommodations.
URL:https://caddo.gov/event/caddo-parish-commission-work-session/
LOCATION:Government Plaza Chambers\, 505 Travis St\, Shreveport\, LA\, 71101-3027\, United States
CATEGORIES:Work Session
END:VEVENT
END:VCALENDAR