BEGIN:VCALENDAR
VERSION:2.0
PRODID:-//Parish of Caddo - ECPv6.15.20//NONSGML v1.0//EN
CALSCALE:GREGORIAN
METHOD:PUBLISH
X-ORIGINAL-URL:https://caddo.gov
X-WR-CALDESC:Events for Parish of Caddo
REFRESH-INTERVAL;VALUE=DURATION:PT1H
X-Robots-Tag:noindex
X-PUBLISHED-TTL:PT1H
BEGIN:VTIMEZONE
TZID:America/Chicago
BEGIN:DAYLIGHT
TZOFFSETFROM:-0600
TZOFFSETTO:-0500
TZNAME:CDT
DTSTART:20240310T080000
END:DAYLIGHT
BEGIN:STANDARD
TZOFFSETFROM:-0500
TZOFFSETTO:-0600
TZNAME:CST
DTSTART:20241103T070000
END:STANDARD
BEGIN:DAYLIGHT
TZOFFSETFROM:-0600
TZOFFSETTO:-0500
TZNAME:CDT
DTSTART:20250309T080000
END:DAYLIGHT
BEGIN:STANDARD
TZOFFSETFROM:-0500
TZOFFSETTO:-0600
TZNAME:CST
DTSTART:20251102T070000
END:STANDARD
BEGIN:DAYLIGHT
TZOFFSETFROM:-0600
TZOFFSETTO:-0500
TZNAME:CDT
DTSTART:20260308T080000
END:DAYLIGHT
BEGIN:STANDARD
TZOFFSETFROM:-0500
TZOFFSETTO:-0600
TZNAME:CST
DTSTART:20261101T070000
END:STANDARD
END:VTIMEZONE
BEGIN:VEVENT
DTSTART;TZID=America/Chicago:20251006T153000
DTEND;TZID=America/Chicago:20251006T170000
DTSTAMP:20260421T195134
CREATED:20241216T220237Z
LAST-MODIFIED:20251003T171158Z
UID:10000469-1759764600-1759770000@caddo.gov
SUMMARY:Work Session Meeting of the Caddo Parish Commission
DESCRIPTION:CADDO PARISH COMMISSION\n505 TRAVIS STREET\, GOVERNMENT PLAZA\nPUBLIC NOTICE\nWORK SESSION AGENDA\nStreaming at https://www.youtube.com/@parishofcaddois  \nOctober 6\, 2025\n3:30 P.M. \n  \n\nROLL CALL:\n\n            Commissioners: \n\n\n\nDistrict 1\nKracman\nDistrict 7\nGage-Watts\n\n\nDistrict 2\nYoung\, G. \nDistrict 8\nBlake\n\n\nDistrict 3\nThomas\nDistrict 9\nAtkins\n\n\nDistrict 4\nYoung\, J.P. \nDistrict 10\nCothran\n\n\nDistrict 5\nBurrell\nDistrict 11 \nLazarus\n\n\nDistrict 6\nJones\nDistrict 12\nEpperson\n\n\n\n  \n  \n  \n\nINVOCATION:\n\n  \n\nPLEDGE OF ALLEGIANCE:\n\nVeterans and active military members saluting during recitation of the Pledge of Allegiance would be appropriate\, should you wish to do so. All others\, please recite with your hands over your hearts\, and we ask that everyone please remember our POW-MIA’s as we say the Pledge of Allegiance. \n  \n\nAGENDA ADDITIONS:\n\n  \n\nCITIZENS COMMENTS:\n\nCitizens who wish to address the Commission on any issue other than zoning\, please fill out a comment card located in the chamber foyer and return to the President or the Clerk of the Commission.  Individual comments are limited to 3 minutes. \n           \n\nVISITORS:\n\n  \nVisit from Russell Adams from the Louisiana State Fair \n(Epperson) \n  \nVisit from Milton Carroll of High Risk Behavior Prevention \n(Gage-Watts) \n  \n\nREPORTS:\n\nAdmin Report \n  \n  \n\nCOMMISSION REMARKS:\n\n                        Communiques\, reports\, and other items related to Work Session Agenda. \n  \n\nPRESIDENT’S REPORT:\n\n  \n\nOLD BUSINESS:\n\n  \n\nNEW BUSINESS:\n\n  \nAdvance the introduction of Ordinance 6563 of 2025 \nAN ORDINANCE AMENDING THE BUDGET OF ESTIMATED REVENUES AND EXPENDITURES FOR THE RIVERBOAT FUND AND THE OIL AND GAS FUND TO PROVIDE AN ADDITIONAL APPROPRIATION FOR THE SAFE SUMMER PROGRAM AND TO OTHERWISE PROVIDE WITH RESPECT THERETO Fact Sheet (October 23rd public hearing) \n(Finance) \n  \nAdvance the introduction of Ordinance 6564 of 2025– \nAN ORDINANCE ADOPTING THE BUDGET OF ESTIMATED REVENUES  AND EXPENDITURES FOR THE SHREVE MEMORIAL LIBRARY  FOR THE YEAR 2026 Exhibit 1\, 2\, 3\, 4 (Nov 6th public hearing) \n(Finance) \n  \nAdvance the adoption of Resolution 39 of 2025 \nA RESOLUTION TO AUTHORIZE THE CADDO PARISH ADMINISTRATOR TO DIRECT AND AUTHORIZE THE LOUISIANA STATE MINERAL AND ENERGY BOARD AND THE OFFICE OF MINERAL RESOURCES TO ACCEPT NOMINATIONS\, ADVERTISE FOR\, ACCEPT AND AWARD BIDS\, AND EXECUTE ALL OIL\, GAS AND MINERAL LEASES ON CERTAIN MINERAL INTERESTS OWNED BY THE PARISH OF CADDO\, AND OTHERWISE PROVIDING WITH RESPECT THERETO Fact Sheet Exhibit 1 \n(District 9) \n  \nAdvance the adoption of Resolution 40 of 2025 \nA RESOLUTION TO AUTHORIZE THE CADDO PARISH ADMINISTRATOR TO DIRECT AND AUTHORIZE THE LOUISIANA STATE MINERAL AND ENERGY BOARD AND THE OFFICE OF MINERAL RESOURCES TO ACCEPT NOMINATIONS\, ADVERTISE FOR\, ACCEPT AND AWARD BIDS\, AND EXECUTE ALL OIL\, GAS AND MINERAL LEASES ON CERTAIN MINERAL INTERESTS OWNED BY THE PARISH OF CADDO\, AND OTHERWISE PROVIDING WITH RESPECT THERETO  Fact Sheet\, Exhibit 1 \n(District 1) \n  \nAdvance the adoption of Resolution 41 of 2025 \nURGING AND REQUESTING KEN KREFFT TO PERFORM HIS DRAMATIC HISTORICAL RESITATIONS FOR CONGRESS \n(Epperson) \n  \nAdvance the adoption of Special Resolution Commemorating the 250th Birthday of the United State Navy \n(Epperson\, Thomas) \n  \nAdvance the adoption of Special Resolution for Black Restaurant week \n(Thomas) \n  \nAdvance the Adoption of a Special Resolution of Recognition for Helen Amin \n(Gage-Watts) \n  \nAdvance the adoption of Special Resolution for Max Chambers \n(Gage-Watts\, Thomas) \n  \nAdvance the adoption of Special resolution for Breast Cancer Awareness Month \n(Gage-Watts\, Thomas) \n  \nAdvance the adoption of Special Resolution for Domestic Violence Awareness Month \n(Gage-Watts\, Thomas) \n  \nAdvance the adoption of Special Resolution for Filipino Awareness Month \n(Gage-Watts\, Cothran\, Thomas) \n  \nAdvance the Appointment of Ivy Y. Melius to Fire District #3 \n(Epperson) \nAdvance the reappointment of Kay Proby-Waller to the Industrial Development Board (Epperson) \nAdvance the reappointment of Marvin Mohammed to the Industrial Development Board \n(Thomas) \nAdvance the appropriation of $ 1.2 million from Public Works Road fund for safety\, improvements\, and extension of Dawson Road Project in 2026 Budget \n(Epperson) \nAdvance the Authorization of Administration to spend up to $50\,000 of funding from the Reserve Trust Fund’s emergency repair funding. \n(Cothran) \n  \n  \n\nCOMMUNIQUES AND COMMITTEE REPORTS:\n\nDiscussion of Caddo Community Action Agency Exhibit 1 \n(Epperson) \n  \n\nCITIZENS COMMENTS (Late Arrivals):\n\nCitizens who wish to address the Commission please fill out a comment card located in the chamber foyer\, and return to the Chairman or the Clerk of the Commission. Citizens may also fill out & submit a COMMENT CARD ONLINE HERE prior to the meeting.  Individual comments are limited to 3 minutes. \n  \n\nCONSENT AGENDA:\n\nPublic Hearing and final consideration of Ordinance No. 6562 of 2025 \nAN ORDINANCE TO AMEND VOLUME II OF THE CODE OF ORDINANCES OF THE PARISH OF CADDO\, AS AMENDED\, THE CADDO PARISH UNIFIED DEVELOPMENT CODE\, BY AMENDING THE ZONING OF PROPERTY LOCATED WEST SIDE OF ELLERBE ROAD\, APPROXIMATELY 825 FEET SOUTH OF EAST FLOURNOY LUCAS ROAD\, CADDO PARISH\, LOUISIANA\, FROM R-1-7 SINGLE FAMILY RESIDENTIAL ZONING DISTRICT TO C-1 NEIGHBORHOOD COMMERCIAL ZONING DISTRICT\, AND TO OTHERWISE PROVIDE WITH RESPECT THERETO. \n(PZC\, District 9) \n\nADJOURN:\n\n  \nStatement of Accommodations \nTo all persons desiring to attend and observe a meeting of the Caddo Parish Commission\, or who wish to present information to the body: If you have physical limitations that require special accommodations in order for you to attend and participate in a meeting of the Caddo Parish Commission\, please contact the office of the Caddo Parish Commission Clerk at (318) 226-6596\, at least 24 hours in advance of the meeting so that an effort can be made to provide those accommodations. \n 
URL:https://caddo.gov/event/work-session-meeting-of-the-caddo-parish-commission-18/
LOCATION:Government Plaza\, 505 Travis Street\, 1st Floor\, Shreveport\, LA\, 71101\, United States
CATEGORIES:Work Session
END:VEVENT
END:VCALENDAR