BEGIN:VCALENDAR
VERSION:2.0
PRODID:-//Parish of Caddo - ECPv6.15.20//NONSGML v1.0//EN
CALSCALE:GREGORIAN
METHOD:PUBLISH
X-WR-CALNAME:Parish of Caddo
X-ORIGINAL-URL:https://caddo.gov
X-WR-CALDESC:Events for Parish of Caddo
REFRESH-INTERVAL;VALUE=DURATION:PT1H
X-Robots-Tag:noindex
X-PUBLISHED-TTL:PT1H
BEGIN:VTIMEZONE
TZID:America/Chicago
BEGIN:DAYLIGHT
TZOFFSETFROM:-0600
TZOFFSETTO:-0500
TZNAME:CDT
DTSTART:20240310T080000
END:DAYLIGHT
BEGIN:STANDARD
TZOFFSETFROM:-0500
TZOFFSETTO:-0600
TZNAME:CST
DTSTART:20241103T070000
END:STANDARD
BEGIN:DAYLIGHT
TZOFFSETFROM:-0600
TZOFFSETTO:-0500
TZNAME:CDT
DTSTART:20250309T080000
END:DAYLIGHT
BEGIN:STANDARD
TZOFFSETFROM:-0500
TZOFFSETTO:-0600
TZNAME:CST
DTSTART:20251102T070000
END:STANDARD
BEGIN:DAYLIGHT
TZOFFSETFROM:-0600
TZOFFSETTO:-0500
TZNAME:CDT
DTSTART:20260308T080000
END:DAYLIGHT
BEGIN:STANDARD
TZOFFSETFROM:-0500
TZOFFSETTO:-0600
TZNAME:CST
DTSTART:20261101T070000
END:STANDARD
END:VTIMEZONE
BEGIN:VEVENT
DTSTART;TZID=America/Chicago:20250804T153000
DTEND;TZID=America/Chicago:20250804T170000
DTSTAMP:20260424T210555
CREATED:20241216T215958Z
LAST-MODIFIED:20250806T153723Z
UID:10000465-1754321400-1754326800@caddo.gov
SUMMARY:Work Session Meeting of the Caddo Parish Commission
DESCRIPTION:CADDO PARISH COMMISSION\n505 TRAVIS STREET\, GOVERNMENT PLAZA\nPUBLIC NOTICE\nWORK SESSION AGENDA\nStreaming at https://www.youtube.com/@parishofcaddois  \nAugust 4\, 2025\n3:30 P.M. \n  \n\nROLL CALL:\n\n            Commissioners: \n\n\n\nDistrict 1\nKracman\nDistrict 7\nGage-Watts\n\n\nDistrict 2\nYoung\, G. \nDistrict 8\nBlake\n\n\nDistrict 3\nThomas\nDistrict 9\nAtkins\n\n\nDistrict 4\nYoung\, J.P. \nDistrict 10\nCothran\n\n\nDistrict 5\nBurrell\nDistrict 11 \nLazarus\n\n\nDistrict 6\nJones\nDistrict 12\nEpperson\n\n\n\n  \n  \n  \n\nINVOCATION:\n\n  \n\nPLEDGE OF ALLEGIANCE:\n\nVeterans and active military members saluting during recitation of the Pledge of Allegiance would be appropriate\, should you wish to do so. All others\, please recite with your hands over your hearts\, and we ask that everyone please remember our POW-MIA’s as we say the Pledge of Allegiance. \n  \n\nAGENDA ADDITIONS:\n\n1  Potential Agenda Addition: Advance a Special Resolution Recognizing the 235th Anniversary of the United States Coast Guard  (Epperson)\n\n\n\n  \n\nCITIZENS COMMENTS:\n\nCitizens who wish to address the Commission on any issue other than zoning\, please fill out a comment card located in the chamber foyer and return to the President or the Clerk of the Commission.  Individual comments are limited to 3 minutes. \n           \n\nVISITORS:\n\nCaddo Parish Registrar of Voters Dale Sibley\n\n\n\n(Cothran) \n  \n  \n\nREPORTS:\n\n7.1 Administration Report 8.4.2025 \n  \n\nCOMMISSION REMARKS:\n\n                        Communiques\, reports\, and other items related to Work Session Agenda. \n  \n\nPRESIDENT’S REPORT:\n\n  \n\nOLD BUSINESS:\n\n  \n\nNEW BUSINESS:\n\n11.1     Advance the Introduction of Ordinance No. 6554 of 2025 \nAN ORDINANCE AMENDING AND REENACTING SECTION 35-1 OF THE CADDO PARISH CODE OF ORDINANCES PERTAINING TO SCHEDULE OF LICENSES AND FEES\, AND OTHERWISE PROVIDING WITH RESPECT THERETO \n(Long Range Planning Committee) \n11.2 Advance the Introduction of Ordinance No. 6555 of 2025 \nAN ORDINANCE TO AMEND ORDINANCE 6541 OF 2025\, AND TO OTHERWISE PROVIDE WITH RESPECT THERETO Fact Sheet\, Exhibit 1 \n(District 12) \n11.3 Advance the Introduction of Ordinance No. 6556 of 2025 \nAN ORDINANCE TO CLOSE AND ABANDON OR RELEASE A PORTION OF THE 15-FOOT WIDE UTILITY SERVITUDE ON LOT 22 OF THE WALDEN FERRY SUBDIVISION\, UNIT NO. 2\, IN SECTION 28\, TOWNSHIP 17 NORTH\, RANGE 16 WEST\, IN THE PARISH OF CADDO\, AND TO OTHERWISE PROVIDE WITH RESPECT THERETO \n(District 12) \n11.4 Advance Introduction of Ordinance No. 6557 of 2025 \nAN ORDINANCE TO AUTHORIZE THE LEASE OF THE FLOOD ACQUISITION PROPERTY LOCATED AT 7533 W. LAKESHORE DRIVE\, SHREVEPORT\, CADDO PARISH\, LOUISIANA\, AND TO OTHERWISE PROVIDE WITH RESPECT THERETO \n(District 1) \n11.4     Advance Resolution 33 of 2025 \nA RESOLUTION URGING & REQUESTING THAT THE STATE OF LOUISIANA ALLOCATE APPROPRIATE ATTENTION AND RESOURCES TO REPAIR AND MAINTAIN I-49\, I-220\, I-20 AND 3132 WITHIN CADDO PARISH. \n(Atkins\, Lazarus) \n11.5 Advance Resolution 34 of 2025 \nA RESOLUTION APPROVING THE ISSUANCE\, SALE AND DELIVERY OF NOT EXCEEDING $5\,500\,000 OF HOSPITAL REVENUE BONDS OF NORTH CADDO HOSPITAL SERVICE DISTRICT OF THE PARISH OF CADDO\, STATE OF LOUISIANA\, AND PROVIDING FOR OTHER MATTERS IN CONNECTION THEREWITH. \n(District 1) \n11.6 Advance Resolution 35 of 2025 \nA RESOLUTION TO AUTHORIZE THE CADDO PARISH ADMINISTRATOR TO APPROVE THE ASSIGNMENT\, BILL OF SALE AND CONVEYANCE OF STATE AGENCY LEASES NO. 19509\, NO. 20131\, NO. 20133 AND NO. 20134 FROM OCM DENALI HOLDINGS\, LLC\, TO SABINE OIL & GAS CORPORATION\, AND OTHERWISE PROVIDING WITH RESPECT THERETO Fact Sheet\, Exhibit 1\, 2\, 3\, and 4. \n(District 11) \n11.7    Advance a Special Resolution of Remembrance for Mrs. Lita Smith \n(G. Young) \n11.8   Advance a Special Resolution for Brady Blade\, Sr. \n(R. Burrell) \n11.9 Advance a Special Resolution for Geneva Moore’s 110th Birthday \n(Thomas\, Burrell) \n11.10  Advance a Special Resolution recognizing former Shreveport Mayor John Hussey. \n(Thomas) \n11.11 Advance a  Special Resolution commemorating the 100th Anniversary of the Strand \n(Thomas) \n11.12 Advance a Visit from Dr. Kenneth Sanders relative to WOD Godz Competition \n(JP Young) \n11.13  Advance the approval of Approve Southern Hills Neighborhood Association to change its 2025 NGO appropriation purpose to “Family Fun Day.” \n(District 10) \n  \n\nCOMMUNIQUES AND COMMITTEE REPORTS:\n\n\n\n\nSwearing in of the Caddo Parish Youth Leadership Alliance\n\n\n\n  \n\nCITIZENS COMMENTS (Late Arrivals):\n\nCitizens who wish to address the Commission please fill out a comment card located in the chamber foyer\, and return to the Chairman or the Clerk of the Commission. Individual comments are limited to 3 minutes. \n  \n\nCONSENT AGENDA:\n\n  \n  \n\nADJOURN:\n\n  \nStatement of Accommodations \nTo all persons desiring to attend and observe a meeting of the Caddo Parish Commission\, or who wish to present information to the body: If you have physical limitations that require special accommodations in order for you to attend and participate in a meeting of the Caddo Parish Commission\, please contact the office of the Caddo Parish Commission Clerk at (318) 226-6596\, at least 24 hours in advance of the meeting so that an effort can be made to provide those accommodations. \n  \n  \n  \n  \n 
URL:https://caddo.gov/event/work-session-meeting-of-the-caddo-parish-commission-14/
LOCATION:Government Plaza\, 505 Travis Street\, 1st Floor\, Shreveport\, LA\, 71101\, United States
CATEGORIES:Work Session
END:VEVENT
END:VCALENDAR