BEGIN:VCALENDAR
VERSION:2.0
PRODID:-//Parish of Caddo - ECPv6.15.20//NONSGML v1.0//EN
CALSCALE:GREGORIAN
METHOD:PUBLISH
X-ORIGINAL-URL:https://caddo.gov
X-WR-CALDESC:Events for Parish of Caddo
REFRESH-INTERVAL;VALUE=DURATION:PT1H
X-Robots-Tag:noindex
X-PUBLISHED-TTL:PT1H
BEGIN:VTIMEZONE
TZID:America/Chicago
BEGIN:DAYLIGHT
TZOFFSETFROM:-0600
TZOFFSETTO:-0500
TZNAME:CDT
DTSTART:20240310T080000
END:DAYLIGHT
BEGIN:STANDARD
TZOFFSETFROM:-0500
TZOFFSETTO:-0600
TZNAME:CST
DTSTART:20241103T070000
END:STANDARD
BEGIN:DAYLIGHT
TZOFFSETFROM:-0600
TZOFFSETTO:-0500
TZNAME:CDT
DTSTART:20250309T080000
END:DAYLIGHT
BEGIN:STANDARD
TZOFFSETFROM:-0500
TZOFFSETTO:-0600
TZNAME:CST
DTSTART:20251102T070000
END:STANDARD
BEGIN:DAYLIGHT
TZOFFSETFROM:-0600
TZOFFSETTO:-0500
TZNAME:CDT
DTSTART:20260308T080000
END:DAYLIGHT
BEGIN:STANDARD
TZOFFSETFROM:-0500
TZOFFSETTO:-0600
TZNAME:CST
DTSTART:20261101T070000
END:STANDARD
END:VTIMEZONE
BEGIN:VEVENT
DTSTART;TZID=America/Chicago:20250630T153000
DTEND;TZID=America/Chicago:20250630T170000
DTSTAMP:20260422T211755
CREATED:20241216T215925Z
LAST-MODIFIED:20250630T194842Z
UID:10000464-1751297400-1751302800@caddo.gov
SUMMARY:Work Session Meeting of the Caddo Parish Commission
DESCRIPTION:CADDO PARISH COMMISSION\n505 TRAVIS STREET\, GOVERNMENT PLAZA\nPUBLIC NOTICE\nWORK SESSION AGENDA\nStreaming at https://www.youtube.com/@parishofcaddois  \nJune 30\, 2025\n3:30 P.M. \n  \n\nROLL CALL:\n\n            Commissioners: \n\n\n\nDistrict 1\nKracman\nDistrict 7\nGage-Watts\n\n\nDistrict 2\nYoung\, G. \nDistrict 8\nBlake\n\n\nDistrict 3\nThomas\nDistrict 9\nAtkins\n\n\nDistrict 4\nYoung\, J.P. \nDistrict 10\nCothran\n\n\nDistrict 5\nBurrell\nDistrict 11 \nLazarus\n\n\nDistrict 6\nJones\nDistrict 12\nEpperson\n\n\n\n  \n  \n  \n\nINVOCATION:\n\n  \n\nPLEDGE OF ALLEGIANCE:\n\nVeterans and active military members saluting during recitation of the Pledge of Allegiance would be appropriate\, should you wish to do so. All others\, please recite with your hands over your hearts\, and we ask that everyone please remember our POW-MIA’s as we say the Pledge of Allegiance. \n  \n\nAGENDA ADDITIONS:\n\n4.1 POTENTIAL AGENDA ADDITION: Advance a Special Resolution Commemorating the 190th Anniversary of the signing of the Caddo Treaty. \n(Thomas) \n\nCITIZENS COMMENTS:\n\nCitizens who wish to address the Commission on any issue other than zoning\, please fill out a comment card located in the chamber foyer and return to the President or the Clerk of the Commission.  Individual comments are limited to 3 minutes. \n           \n\nVISITORS:\n\nVisit from Rev. Lee Jeter of the Fuller Center for Housing  Workshop Flyer \n\n\n\n(Cothran) \n  \n\nREPORTS:\n\n  \n7.1 Administration Report \n  \n\nCOMMISSION REMARKS:\n\n                        Communiques\, reports\, and other items related to Work Session Agenda. \n  \n\nPRESIDENT’S REPORT:\n\n  \n\nOLD BUSINESS:\n\n  \n\nNEW BUSINESS:\n\n11.1 Advance a Special Resolution for LaShawn Benita Harley-Hill \n(Cothran) \n  \n11.2 Advance the Ratification of Special Resolution for Sen. Bernie Sanders \n(Gage-Watts\, Thomas) \n  \n11.3 Advance a Special Resolution Southern University System’s National Alumni Association National Convention \n(Thomas) \n  \n11.4 Advance a Special Resolution for Cathedral Fivefold Ministries Fellowship \n(Cothran) \n  \n11.5 Advance a Special Resolution Celebrating the 90th Birthday of Booker Cherry \n(Cothran) \n  \n11.6 Advance the Confirmation of Maurice Carson as the Director of Facilities and Maintenance. \n(Administration) \n  \n11.7 Advance Authorizing the Administrator to pursue the implementation of the West Caddo and North Caddo early voting sites through the Secretary of State’s office for use during the 2026 election cycle. \n(Public Safety Committee) \n11.8 Discussion of Ratified resolutions \n(Gage-Watts) \n  \n\nCOMMUNIQUES AND COMMITTEE REPORTS:\n\n  \n\nCITIZENS COMMENTS (Late Arrivals):\n\nCitizens who wish to address the Commission please fill out a comment card located in the chamber foyer\, and return to the Chairman or the Clerk of the Commission. Citizens may also fill out & submit a COMMENT CARD ONLINE HERE prior to the meeting.  Individual comments are limited to 3 minutes. \n  \n\nCONSENT AGENDA:\n\n  \n14.1 Ordinance No. 6547of 2025 \nAN ORDINANCE AMENDING ARTICLE III OF CHAPTER 19 OF THE CODE OF ORDINANCES RELATIVE TO THE E. EDWARD JONES HOUSING TRUST FUND\, TO EXPAND THE TECHNICAL REVIEW COMMITTEE\, AND TO OTHERWISE PROVIDE WITH RESPECT THERETO. \n(Long Range Planning Committee) \n14.2  Ordinance No. 6548 of 2025 \nAN ORDINANCE AMENDING THE BUDGET OF ESTIMATED REVENUES AND EXPENDITURES FOR THE DEBT SERVICE FUND AND THE CAPITAL OUTLAY FUND TO PROVIDE AN APPROPRIATION OF $10\,000\,000 FOR THE CONSTRUCTION OF A PICKLEBALL PARK\, AND TO OTHERWISE PROVIDE WITH RESPECT THERETO Fact Sheet \n(Economic Development Committee) \n  \n14.3 Ordinance 6549 of 2025 \nAN ORDINANCE TO AMEND VOLUME II OF THE CODE OF ORDINANCES OF THE PARISH OF CADDO\, AS AMENDED\, THE CADDO PARISH UNIFIED DEVELOPMENT CODE\, RELATIVE TO UNNECESSARY AND INCONSITENT ZONING DISTRICTS\, WITH ALL THEIR PROVISIONS INCLUDED HEREIN\, AND TO OTHERWISE PROVIDE WITH RESPECT THERETO. \n(PZC) \n14.4 Ordinance 6550 of 2025 \nAN ORDINANCE TO DEEM PROPERTY SURPLUS AND AUTHORIZE THE SALE OF SURPLUS PROPERTY OWNED BY THE PARISH OF CADDO\, AND TO OTHERWISE PROVIDE WITH RESPECT THERETO. Fact Sheet Exhibit 1 \n(Public Works) \n14.5 Ordinance 6551 of 2025 \nAN ORDINANCE DECLARING CERTAIN ADJUDICATED PROPERTIES TO BE SURPLUS AND TO AUTHORIZE THE PARISH ADMINISTRATOR\, OR A DESIGNEE\, TO SELL THE PARISH OF CADDO’S TAX INTEREST IN CERTAIN SURPLUS ADJUDICATED PROPERTIES\, AND TO OTHERWISE PROVIDE WITH RESPECT THERETO  Fact Sheet\, Map \n(District 3) \n14.6 Ordinance 6552 of 2025 \nAN ORDINANCE TO CLOSE AND ABANDON A PORTION OF THE 15-FOOT WIDE UTILITY EASEMENT IN THE NORTHWOOD TRACE SUBDIVISION\, UNIT NO. 2\, IN SECTION 36\, TOWNSHIP 19 NORTH\, RANGE 15 WEST\, IN THE PARISH OF CADDO\, AND TO OTHERWISE PROVIDE WITH RESPECT THERETO. \n(District 2) Fact Sheet\,  Exhibit 1 \n14.7 Ordinance 6553 of 2025 \nAN ORDINANCE AMENDING THE BUDGET OF ESTIMATED REVENUES AND EXPENDITURES FOR RIVERBOAT FUND AND THE OIL AND GAS FUND TO PROVIDE AN APPROPRIATION TO NORTHWEST LOUISIANA FOOD BANK AND TO OTHERWISE PROVIDE WITH RESPECT THERETO Fact Sheet \n(Gage-Watts\, Thomas) \n  \n\nADJOURN:\n\n  \nStatement of Accommodations \nTo all persons desiring to attend and observe a meeting of the Caddo Parish Commission\, or who wish to present information to the body: If you have physical limitations that require special accommodations in order for you to attend and participate in a meeting of the Caddo Parish Commission\, please contact the office of the Caddo Parish Commission Clerk at (318) 226-6596\, at least 24 hours in advance of the meeting so that an effort can be made to provide those accommodations. \n 
URL:https://caddo.gov/event/work-session-meeting-of-the-caddo-parish-commission-13/
LOCATION:Government Plaza\, 505 Travis Street\, 1st Floor\, Shreveport\, LA\, 71101\, United States
CATEGORIES:Work Session
END:VEVENT
END:VCALENDAR