BEGIN:VCALENDAR
VERSION:2.0
PRODID:-//Parish of Caddo - ECPv6.15.20//NONSGML v1.0//EN
CALSCALE:GREGORIAN
METHOD:PUBLISH
X-ORIGINAL-URL:https://caddo.gov
X-WR-CALDESC:Events for Parish of Caddo
REFRESH-INTERVAL;VALUE=DURATION:PT1H
X-Robots-Tag:noindex
X-PUBLISHED-TTL:PT1H
BEGIN:VTIMEZONE
TZID:America/Chicago
BEGIN:DAYLIGHT
TZOFFSETFROM:-0600
TZOFFSETTO:-0500
TZNAME:CDT
DTSTART:20240310T080000
END:DAYLIGHT
BEGIN:STANDARD
TZOFFSETFROM:-0500
TZOFFSETTO:-0600
TZNAME:CST
DTSTART:20241103T070000
END:STANDARD
BEGIN:DAYLIGHT
TZOFFSETFROM:-0600
TZOFFSETTO:-0500
TZNAME:CDT
DTSTART:20250309T080000
END:DAYLIGHT
BEGIN:STANDARD
TZOFFSETFROM:-0500
TZOFFSETTO:-0600
TZNAME:CST
DTSTART:20251102T070000
END:STANDARD
BEGIN:DAYLIGHT
TZOFFSETFROM:-0600
TZOFFSETTO:-0500
TZNAME:CDT
DTSTART:20260308T080000
END:DAYLIGHT
BEGIN:STANDARD
TZOFFSETFROM:-0500
TZOFFSETTO:-0600
TZNAME:CST
DTSTART:20261101T070000
END:STANDARD
END:VTIMEZONE
BEGIN:VEVENT
DTSTART;TZID=America/Chicago:20250121T153000
DTEND;TZID=America/Chicago:20250121T170000
DTSTAMP:20260423T215832
CREATED:20241216T215227Z
LAST-MODIFIED:20250117T195114Z
UID:10000453-1737473400-1737478800@caddo.gov
SUMMARY:Work Session Meeting of the Caddo Parish Commission
DESCRIPTION:CADDO PARISH COMMISSION\n505 TRAVIS STREET\, GOVERNMENT PLAZA\nPUBLIC NOTICE\nWORK SESSION AGENDA\nStreaming at https://www.youtube.com/@parishofcaddois  \nJanuary 21\, 2024\n3:30 P.M. \n  \n\nROLL CALL:\n\n            Commissioners: \n\n\n\nDistrict 1\nKracman\nDistrict 7\nGage-Watts\n\n\nDistrict 2\nYoung\, G. \nDistrict 8\nBlake\n\n\nDistrict 3\nThomas\nDistrict 9\nAtkins\n\n\nDistrict 4\nYoung\, J.P. \nDistrict 10\nCothran\n\n\nDistrict 5\nBurrell\nDistrict 11 \nLazarus\n\n\nDistrict 6\nJones\nDistrict 12\nEpperson\n\n\n\n  \n        \n\nINVOCATION:\n\n  \n\nPLEDGE OF ALLEGIANCE:\n\nVeterans and active military members saluting during recitation of the Pledge of Allegiance would be appropriate\, should you wish to do so. All others\, please recite with your hands over your hearts\, and we ask that everyone please remember our POW-MIA’s as we say the Pledge of Allegiance. \n  \n\nAGENDA ADDITIONS:\n\n  \n\nCITIZENS COMMENTS:\n\nCitizens who wish to address the Commission on any issue other than zoning\, please fill out a comment card located in the chamber foyer and return to the President or the Clerk of the Commission.  Individual comments are limited to 3 minutes. \n           \n\nVISITORS:\n\n  \n\nREPORTS:\n\n  \n\nCOMMISSION REMARKS:\n\n                        Communiques\, reports\, and other items related to Work Session Agenda. \n  \n\nPRESIDENT’S REPORT:\n\n  \n\nOLD BUSINESS:\n\n  \n\nNEW BUSINESS:\n\n11.1 Advance Special Resolution of Appreciation for the MML\, Jr. Day of Service Resource Fair \n(G Young) \n11.2 Advance Special Resolution Recognizing the Bicentennial Anniversary of Centenary College \n(JP Young\, Atkins) \n11.3 Advance Special Resolution for Larry and Joyce Coleman’s 50th Anniversary \n(Cothran) \n11.4 Advance Property Standards Case #1 – 0 Dansby Road\, Shreveport\, LA 71107 \n(District 2) \n11.5 Advance Property Standards Case #2 – 119 Barlow Avenue\, Shreveport\, LA 71106 \n(District 9) \n11.6 Advance Property Standards Case #3- 129 Spilker Ave\, Shreveport\, LA 71106 \n(District 9) \n11.7 Advance Property Standards Case #4 – 8930 Lake End Road\, Mooringsport\, LA 71060 \n(District 1) \n11.8 Advance Property Standards Case #5 – 6850 N. Colony Road\, Shreveport\, LA 71107 \n(District 1) \n11.9 Advance Property Standards Case #6 – 3404 Riviera\, Shreveport\, LA 71107 \n(District 2) \n11.10 Advance Property Standards Case #7 – 1575 RC Thompson Road\, Shreveport\, LA 71106 \n(District 2) \n11.11 Advance Property Standards Case #8 – 3404 West Dr.\, Shreveport\, LA 71107 \n(District 2) \n11.12 Advance Property Standards Case #9 – 6678 Mira Scotts Slough Road\, Ida\, LA 71044 \n(District 1) \n11.13 Advance Property Standards Case #10 – 8310 Hwy 1\, Shreveport\, LA 71107 \n(District 1) \n  \n\nCOMMUNIQUES AND COMMITTEE REPORTS:\n\n  \n\nCITIZENS COMMENTS (Late Arrivals):\n\nCitizens who wish to address the Commission please fill out a comment card located in the chamber foyer\, and return to the Chairman or the Clerk of the Commission. Citizens may also fill out & submit a COMMENT CARD ONLINE HERE prior to the meeting.  Individual comments are limited to 3 minutes. \n  \n\nCONSENT AGENDA:\n\n14.1 Public Hearing anhd final consideration of Ordinance 6512 of 2024 \nAN ORDINANCE TO CLOSE AND ABANDON A PORTION OF THE PUBLIC DEDICATION FOR WELLS ISLAND ROAD\, LOCATED IN SECTION 13\, TOWNSHIP 18 NORTH\, RANGE 14 WEST\, IN THE PARISH OF CADDO\, AND TO OTHERWISE PROVIDE WITH RESPECT THERETO \n(District 3) \n14.2 Introduce of Ordinance 6513 of 2025 \nAN ORDINANCE AMENDING THE BUDGET OF ESTIMATED REVENUES AND EXPENDITURES FOR THE CAPITAL OUTLAY FUND TO CHANGE AN APPROPRIATION FROM THE CONSTRUCTION AND IMPROVEMENT OF GREENWOOD WATER LINES TO CONSTRUCTION OF THE DAWSON ROAD EXTENSION. Fact Sheet \n(Epperson) \n14.3 Appoint Chris Davis to the Human Services District of Louisiana to replace the unexpired term of David Hoey. Exhibit 1 Resume and LOI \n(Commission Clerk’s Office) \n  \n\nADJOURN:\n\n  \nStatement of Accommodations \nTo all persons desiring to attend and observe a meeting of the Caddo Parish Commission\, or who wish to present information to the body: If you have physical limitations that require special accommodations in order for you to attend and participate in a meeting of the Caddo Parish Commission\, please contact the office of the Caddo Parish Commission Clerk at (318) 226-6596\, at least 24 hours in advance of the meeting so that an effort can be made to provide those accommodations.
URL:https://caddo.gov/event/work-session-meeting-of-the-caddo-parish-commission-2/
LOCATION:Government Plaza\, 505 Travis Street\, 1st Floor\, Shreveport\, LA\, 71101\, United States
CATEGORIES:Work Session
END:VEVENT
END:VCALENDAR