BEGIN:VCALENDAR
VERSION:2.0
PRODID:-//Parish of Caddo - ECPv6.15.20//NONSGML v1.0//EN
CALSCALE:GREGORIAN
METHOD:PUBLISH
X-WR-CALNAME:Parish of Caddo
X-ORIGINAL-URL:https://caddo.gov
X-WR-CALDESC:Events for Parish of Caddo
REFRESH-INTERVAL;VALUE=DURATION:PT1H
X-Robots-Tag:noindex
X-PUBLISHED-TTL:PT1H
BEGIN:VTIMEZONE
TZID:America/Chicago
BEGIN:DAYLIGHT
TZOFFSETFROM:-0600
TZOFFSETTO:-0500
TZNAME:CDT
DTSTART:20230312T080000
END:DAYLIGHT
BEGIN:STANDARD
TZOFFSETFROM:-0500
TZOFFSETTO:-0600
TZNAME:CST
DTSTART:20231105T070000
END:STANDARD
BEGIN:DAYLIGHT
TZOFFSETFROM:-0600
TZOFFSETTO:-0500
TZNAME:CDT
DTSTART:20240310T080000
END:DAYLIGHT
BEGIN:STANDARD
TZOFFSETFROM:-0500
TZOFFSETTO:-0600
TZNAME:CST
DTSTART:20241103T070000
END:STANDARD
BEGIN:DAYLIGHT
TZOFFSETFROM:-0600
TZOFFSETTO:-0500
TZNAME:CDT
DTSTART:20250309T080000
END:DAYLIGHT
BEGIN:STANDARD
TZOFFSETFROM:-0500
TZOFFSETTO:-0600
TZNAME:CST
DTSTART:20251102T070000
END:STANDARD
END:VTIMEZONE
BEGIN:VEVENT
DTSTART;TZID=America/Chicago:20240903T153000
DTEND;TZID=America/Chicago:20240903T170000
DTSTAMP:20260420T145623
CREATED:20240129T170708Z
LAST-MODIFIED:20240904T150802Z
UID:10000251-1725377400-1725382800@caddo.gov
SUMMARY:Work Session
DESCRIPTION:CADDO PARISH COMMISSION\n505 TRAVIS STREET\, GOVERNMENT PLAZA\nPUBLIC NOTICE\nWORK SESSION AGENDA\nStreaming at https://www.youtube.com/@parishofcaddois  \nSeptember 3\, 2024\n3:30 P.M. \n  \n\nROLL CALL:\n\n            Commissioners: \n\n\n\nDistrict 1\nKracman\nDistrict 7\nGage-Watts\n\n\nDistrict 2\nYoung\, G. \nDistrict 8\nBlake\n\n\nDistrict 3\nThomas\nDistrict 9\nAtkins\n\n\nDistrict 4\nYoung\, J.P. \nDistrict 10\nCothran\n\n\nDistrict 5\nBurrell\nDistrict 11 \nLazarus\n\n\nDistrict 6\nJones\nDistrict 12\nEpperson\n\n\n\n  \n  \n  \n\nINVOCATION:\n\n  \n\nPLEDGE OF ALLEGIANCE:\n\nVeterans and active military members saluting during recitation of the Pledge of Allegiance would be appropriate\, should you wish to do so. All others\, please recite with your hands over your hearts\, and we ask that everyone please remember our POW-MIA’s as we say the Pledge of Allegiance. \n  \n\nAGENDA ADDITIONS:\n\n4.1 Potential Agenda Addition- Special Resolution Recognizing Suicide Awareness Month \n\nCITIZENS COMMENTS:\n\nCitizens who wish to address the Commission on any issue other than zoning\, please fill out a comment card located in the chamber foyer and return to the President or the Clerk of the Commission.  Individual comments are limited to 3 minutes. \n           \n\nVISITORS:\n\n  \n\nREPORTS:\n\n  \n7.1       Administrator Report \n  \n\nCOMMISSION REMARKS:\n\n                        Communiques\, reports\, and other items related to Work Session Agenda. \n  \n\nPRESIDENT’S REPORT:\n\n  \n\nOLD BUSINESS:\n\n  \n\nNEW BUSINESS:\n\n11.1 Advance the Introduction of Ordinance 6456 of 2024 \nAN ORDINANCE SETTING THE PARISH MILLAGE FOR THE PURPOSE OF PAYING PRINCIPAL AND INTEREST\, DUE IN 2024 ON OUTSTANDING PARISH BOND ISSUES AND TO INSTRUCT THE ASSESSOR TO INCLUDE SAID MILLAGE ON THE TAX ROLL OF THE PARISH OF CADDO FOR THE YEAR 2024\, AND TO OTHERWISE PROVIDE WITH RESPECT THERETO Fact Sheet \n(Finance) \n11.2 Advance the Introduction of Ordinance 6457 of 2024 \nAN ORDINANCE TO ADOPT THE VALUES FIXED\, OR TO BE FIXED BY THE LOUISIANA TAX COMMISSION ON ALL ASSESSMENTS FOR RAILWAYS AND OTHER PUBLIC SERVICE CORPORATIONS\, AND TO INSTRUCT THE ASSESSOR TO EXTEND SUCH ASSESSMENTS AND VALUES ON THE TAX ROLL OF THE PARISH OF CADDO FOR THE YEAR 2024\, AND TO OTHERWISE PROVIDE WITH RESPECT THERETO Fact Sheet \n(Finance) \n11.3 Advance the Introduction of Ordinance 6458 of 2024 \nAN ORDINANCE TO SET THE GENERAL PURPOSE AND SPECIAL PURPOSE MILLAGES PROVIDING FOR AN INCREASE IN THE MILLAGE RATES NOT IN EXCESS OF THE PRIOR YEARS MAXIMUM RATES\, AS ALLOWED BY ARTICLE VII\, SECTION 23 OF THE LOUISIANA CONSTITUTION OF 1974 AND LA R.S. 47:1705 (B)\, LEVYING AND IMPOSING TAXES AND ASSESSMENTS FOR 2024 ON ALL THE PROPERTY SUBJECT TO TAXATION IN THE PARISH OF CADDO\, AND TO OTHERWISE PROVIDE WITH RESPECT THERETO Fact Sheet \n(Finance) \n11.4 Advance the Introduction of Ordinance 6459 of 2024 \nAN ORDINANCE TO SET THE GENERAL PURPOSE AND SPECIAL PURPOSE MILLAGES PROVIDING FOR MILLAGE RATE ADJUSTMENTS\, AS ALLOWED BY ARTICLE VII\, SECTION 23 OF THE LOUISIANA CONSTITUTION OF 1974 AND LA R.S. 47:1705 (B)\, LEVYING AND IMPOSING TAXES AND ASSESSMENTS FOR 2024 ON ALL THE PROPERTY SUBJECT TO TAXATION IN THE PARISH OF CADDO\, AND TO OTHERWISE PROVIDE WITH RESPECT THERETO. Fact Sheet \n(Finance) \n11.5 Advance the Introduction of Ordinance 6460 of 2024 \nAN ORDINANCE SETTING THE ASSESSMENT OF PROPERTY CLASSIFIED AS TIMBERLANDS AND TO INSTRUCT THE ASSESSOR TO INCLUDE SAID ASSESSMENT ON THE TAX ROLL OF THE PARISH OF CADDO FOR THE YEAR 2024\, AND TO OTHERWISE PROVIDE WITH RESPECT THERETO Fact Sheet \n(Finance) \n11.6 Advance the Introduction of Ordinance 6461 of 2024 \nAN ORDINANCE TO SELL SURPLUS PROPERTY UNDER CHAPTER 19\, ARTICLE II\, DIVISION 3 OF THE CODE OF ORDINANCES RELATIVE TO DONATION OF ADJUDICATED PROPERTY ACQUIRED BY THE PARISH UNDER LA. R.S. 47:2236 ET SEQ.\, TO AUTHORIZE THE DONATION OF PROPERTY TO GODS OF GRIND\, LLC\, AND TO OTHERWISE PROVIDE WITH RESPECT THERETO Fact Sheet \n(District 3) \n11.7 Advance the Introduction of Ordinance 6462 of 2024 \nAN ORDINANCE TO DONATE SURPLUS PROPERTY UNDER CHAPTER 19\, ARTICLE II\, DIVISION 3 OF THE CODE OF ORDINANCES RELATIVE TO DONATION OF ADJUDICATED PROPERTY ACQUIRED BY THE PARISH UNDER LA. R.S. 47:2236 ET SEQ.\, TO AUTHORIZE THE DONATION OF PROPERTY TO CADDO PARISH FIRE PROTECTION DISTRICT ONE\, AND TO OTHERWISE PROVIDE WITH RESPECT THERETO Fact Sheet \n(District 2) \n11.8 Advance Resolution 56 of 2024 \nA RESOLUTION\, RELATIVE TO HAZARD MITIGATION\, TO ADOPT AN UPDATED HAZARD MITIGATION PLAN\, AND OTHERWISE PROVIDING WITH RESPECT THERETO. Exhibit \n(Legal) \n11.9 Advance Resolution 57 of 2024 \nA RESOLUTION AMENDING RESOLUTION NO. 48 OF 2023\, WHICH ESTABLISHED A CITIZENS DISASTER RESPONSE\, RECOVERY AND REVIEW COMMITTEE IN CADDO PARISH\, AND OTHERWISE PROVIDING WITH RESPECT THERETO. \n(Epperson) \n11.10 Advance Resolution 58 of 2024 \nA RESOLUTION AMENDING THE RULES AND BY-LAWS OF THE CADDO PARISH COMMISSION TO PROVIDE FOR A PERMANENT PUBLIC SAFETY COMMITTEE\, AND OTHERWISE PROVIDING WITH RESPECT THERETO \n(Epperson) \n11.11 Advance Resolution 59 of 2024 \nA RESOLUTION REQUESTING THAT THE LOUISIANA LEGISLATURE ADOPT LEGISLATION AUTHORIZING THE CREATION OF LAND BANKS BY LOCAL JURISDICTIONS IN LOUISIANA AND ESTABLISHING THE STRUCTURE AND AUTHYORITY THEREFORE\, AND OTHERWISE PROVIDING WITH RESPECT THERETO. \n(Economic Development Committee) \n11.12 Advance Resolution 60 of 2024 \nA RESOLUTION REGARDING EXECUTIVE ORDER NO. 24-132 DIRECTING SCHOOLS TO NOT TEACH CRITICAL RACE THEORY\, EXPRESSING THE CADDO PARISH’S OPPOSITION TO THE ORDER\, AND OTHERWISE PROVIDING WITH RESPECT THERETO. \n(Burrell) \n11.13 Advance Resolution 61 of 2024 \nA RESOLUTION TO AUTHORIZE THE CADDO PARISH ADMINISTRATOR TO APPROVE THE ASSIGNMENT\, BILL OF SALE AND CONVEYANCE OF STATE AGENCY LEASE #22227 FROM CYPRESS ENERGY PARTNERS\, LLC\, TO PALOMA NATURAL GAS\, LLC\, AND OTHERWISE PROVIDING WITH RESPECT THERETO Fact Sheet Map \n(District 12) \n11.14 Advance Resolution 62 of 2024 \nA RESOLUTION TO AUTHORIZE THE CADDO PARISH ADMINISTRATOR TO APPROVE THE ASSIGNMENT\, BILL OF SALE AND CONVEYANCE OF STATE AGENCY LEASE #22214 FROM CYPRESS ENERGY PARTNERS\, LLC.\, TO PALOMA NATURAL GAS\, LLC.\, AND OTHERWISE PROVIDING WITH RESPECT THERETO Fact Sheet Map \n(District 7) \n11.15 Advance Resolution 63 of 2024 \nA RESOLUTION TO AUTHORIZE THE CADDO PARISH ADMINISTRATOR TO APPROVE THE ASSIGNMENT\, BILL OF SALE AND CONVEYANCE OF STATE AGENCY LEASE #22215 FROM CYPRESS ENERGY PARTNERS\, LLC.\, TO PALOMA NATURAL GAS\, LLC.\, AND OTHERWISE PROVIDING WITH RESPECT THERETO Fact Sheet Map \n(District 7) \n11.16 Advance Resolution 64 of 2024 \nA RESOLUTION RELATIVE TO CITIZEN ACCESS TO HIGH-SPEED INTERNET ACCESS\, TO URGE THE LOUISIANA OFFICE OF BROADBAND/CONNECT LOUISIANA TO USE AVAILABLE BEAD FUNDING FOR IMPROVING BROADBAND SERVICE IN PUBLIC HOUSING AND OTHER MULTI-FAMILY DWELLINGS\, AND OTHERWISE PROVIDING WITH RESPECT THERETO. \n(Burrell) \n11.17 Advance a Special Resolution of Remembrance for Willie J. Singleton \n(Epperson) \n11.18 Advance a Special Resolution Declaring September as Sickle Cell Anemia Awareness Month in Caddo Parish \n(Gage-Watts) \n11.19 Advance a Special Resolution recognizing Hunger Awareness Month in Caddo Parish \n(Gage-Watts) \n11.20 Advance a Special Resolution recognizing Hispanic Heritage Month in Caddo Parish \n(Gage-Watts) \n11.21 Advance a Special Resolution of Remembrance for Mrs. Bobby T. Henderson \n(Burrell) \n11.22 Advance a Special Resolution Recognizing the 20th Anniversary of the Greenwood \nChamber of Commerce Annual Pioneer Days Heritage Pancake Breakfast \n(Epperson) \n11.23 Advance a Special Resolution Recognizing the 50th Anniversary of the Town of Greenwood’s Annual Pioneer Heritage Days \n(Epperson) \n11.24 Advance reappointment of NCMC Member Jennifer Fant \n(Kracman) \n11.25 Advance reappointment of NCMC Member Kenneth Cochran \n(Kracman) \n11.26 Advance reappointment of Phyllis Hart to the PZC \n(Gage-Watts) \n11.27 Advance Appointment of Jessica Tullis to the PZC \n(Kracman) \n11.28 Advance Appointment of Henry Swearington as Interim Constable for Ward 2 Oil City \n(Kracman) \n11.29 Advance Property Standards Case #1 – 9582 Mailhes\, Shreveport\, LA 71106 \n(District 9) \n11.30 Advance Property Standards Case #2 – 0 Dansby (Anderson) Road\, Shreveport\, LA \n(District 2) \n11.31 Advance Property Standards Case #3 – 13929 Highway 1\, Vivian\, LA \n(District 1) \n11.32 Advance Property Standards Case #4 – 11020 General Patton Ave. Shreveport\, LA \n(District 9) \n11.32 Advance Property Standards Case #5 – 3853 Dansby (Anderson) Road\, Shreveport\, LA \n(District 2) \n11.34 Advance Visit from Caddo Parish Tax Assessor Charles Hennington to present information related to the Tax Board of Review Appeals hearing \n(Commission Clerk’s Office) \n11.35 Advance a Visit from the Airport Park Community Choir \n(Gage-Watts) \n  \n\nCOMMUNIQUES AND COMMITTEE REPORTS:\n\n  \n\nCITIZENS COMMENTS (Late Arrivals):\n\nCitizens who wish to address the Commission please fill out a comment card located in the chamber foyer\, and return to the Chairman or the Clerk of the Commission. Citizens may also fill out & submit a COMMENT CARD ONLINE HERE prior to the meeting.  Individual comments are limited to 3 minutes. \n  \n\nCONSENT AGENDA:\n\n  \n14.1  Ordinance 6450 of 2024 \nAN ORDINANCE PROHIBITING THE PLACEMENT OF CERTAIN MONUMENTS ON PARISH PROPERTY\, AND OTHERWISE PROVIDING WITH RESPECT THERETO. \n(Epperson) \n14.2 Ordinance 6452 of 2024 \nAN ORDINANCE DECLARING THE INTENT OF THE PARISH UNDER LA. R.S. 47:2236 TO ACQUIRE FULL OWNERSHIP INTEREST IN A PARCEL OF PROPERTY IDENTIFIED BY CADDO PARISH TAX ASSESSOR’S GEOGRAPHIC NUMBER 171410-011-0031-00 AND DESCRIBED AS LOT 18\, & WEST HALF OF LOT 19\, BLOCK 10\, QUEENSBOROUGH ANNEX\, SHREVEPORT\, AND TO OTHERWISE PROVIDE WITH RESPECT THERETO \n(Public Works\, District 3) \n14.3 Ordinance 6453 of 2024 \nAN ORDINANCE ADOPTING ARTICLE VII OF CHAPTER 26 OF THE CODE OF ORDINANCES\, RELATIVE TO ENFORCEMENT OF SPEED LIMITS BY MEANS OF TRAFFIC CAMERAS AND OTHER ELECTRONIC DEVICES\, AND TO OTHERWISE PROVIDE WITH RESPECT THERETO. \n(Legal) \n14.4 I Ordinance No. 6454 of 2024 \nAN ORDINANCE DECLARING THE INTENT OF THE PARISH OF CADDO\, UNDER LA. R.S. 47:2236 TO ACQUIRE FULL OWNERSHIP INTEREST IN SEVEN PARCELS OF PROPERTY IN THE STOVALL SUBDIVISION\, UNIT NO. 3\, ALL WITHIN SECTION 26\, TOWNSHIP 18 NORTH-RANGE 14 WEST\, CADDO PARISH\, LOUISIANA\, AND TO OTHERWISE PROVIDE WITH RESPECT THERETO \n(District 3) \n14.5 Ordinance 6455 of 2024 \nAN ORDINANCE TO AMEND ARTICLE VI OF CHAPTER 26 OF THE CODE OF ORDINANCES OF THE PARISH OF CADDO RELATIVE TO SECTION 26-182\, SCHEDULE A\, SPEED LIMITS\, ON DIXIE GARDEN DRIVE AND TO OTHERWISE PROVIDE WITH RESPECT THERETO \n(District 4) \n  \n  \n\nADJOURN:\n\n  \nStatement of Accommodations \nTo all persons desiring to attend and observe a meeting of the Caddo Parish Commission\, or who wish to present information to the body: If you have physical limitations that require special accommodations in order for you to attend and participate in a meeting of the Caddo Parish Commission\, please contact the office of the Caddo Parish Commission Clerk at (318) 226-6596\, at least 24 hours in advance of the meeting so that an effort can be made to provide those accommodations.
URL:https://caddo.gov/event/work-session-30/
LOCATION:Government Plaza Chambers\, 505 Travis St\, Shreveport\, LA\, 71101-3027\, United States
CATEGORIES:Work Session
END:VEVENT
BEGIN:VEVENT
DTSTART;TZID=America/Chicago:20240916T153000
DTEND;TZID=America/Chicago:20240916T170000
DTSTAMP:20260420T145623
CREATED:20240129T171156Z
LAST-MODIFIED:20240916T175135Z
UID:10000255-1726500600-1726506000@caddo.gov
SUMMARY:Work Session
DESCRIPTION:CADDO PARISH COMMISSION\n505 TRAVIS STREET\, GOVERNMENT PLAZA\nPUBLIC NOTICE\nWORK SESSION AGENDA\nStreaming at https://www.youtube.com/@parishofcaddois  \nSeptember 16\, 2024\n3:30 P.M. \n  \n\nROLL CALL:\n\n            Commissioners: \n\n\n\nDistrict 1\nKracman\nDistrict 7\nGage-Watts\n\n\nDistrict 2\nYoung\, G. \nDistrict 8\nBlake\n\n\nDistrict 3\nThomas\nDistrict 9\nAtkins\n\n\nDistrict 4\nYoung\, J.P. \nDistrict 10\nCothran\n\n\nDistrict 5\nBurrell\nDistrict 11 \nLazarus\n\n\nDistrict 6\nJones\nDistrict 12\nEpperson\n\n\n\n  \n  \n  \n\nINVOCATION:\n\n  \n\nPLEDGE OF ALLEGIANCE:\n\nVeterans and active military members saluting during recitation of the Pledge of Allegiance would be appropriate\, should you wish to do so. All others\, please recite with your hands over your hearts\, and we ask that everyone please remember our POW-MIA’s as we say the Pledge of Allegiance. \n** Following the Pledge of Allegiance there will be a Moment of Silence to remember the victims\, heroes\, first responders\, and their families during the attack of September 11\, 2001. \n  \n\nAGENDA ADDITIONS:\n\n4.1 Potential Agenda Addition: Advance a Special Resolution Commemorating 40th Anniversary of the Dixie Cold Storage Fire of 1984 \n(Thomas) \n\nCITIZENS COMMENTS:\n\nCitizens who wish to address the Commission on any issue other than zoning\, please fill out a comment card located in the chamber foyer and return to the President or the Clerk of the Commission.  Individual comments are limited to 3 minutes. \n           \n\nVISITORS:\n\n1 Visit from the Caddo Clerk of Court Mike Spence and Caddo Registrar of Voters Dale Sibley\n\n\n\n\n\n\n(Caddo Commission) \n6.2 Visit from Friends of Fairgrounds Field Exhibit  \n(John-Paul Young) \n  \n\nREPORTS:\n\n  \n7.1       Administrator Report \n7.1.1 August Financials \n  \n\nCOMMISSION REMARKS:\n\n                        Communiques\, reports\, and other items related to Work Session Agenda. \n  \n\nPRESIDENT’S REPORT:\n\n  \n\nOLD BUSINESS:\n\n10.1     Advance Appointment of Jessica Tullis to the PZC to fill the unexpired term of Damon Humphries Resume \n(Kracman) \n  \n\nNEW BUSINESS:\n\n  \n11.1     Advance Introduction of ORDINANCE 6463 of 2024 in relation to Zoning Case 24-01-CTAP \nAN ORDINANCE TO AMEND VOLUME II OF THE CODE OF ORDINANCES OF THE PARISH OF CADDO\, AS AMENDED\, THE CADDO PARISH UNIFIED DEVELOPMENT CODE\, RELATIVE TO SHORT-TERM RENTALS\, WITH ALL THEIR PROVISIONS INCLUDED HEREIN\, AND TO OTHERWISE PROVIDE WITH RESPECT THERETO. \n(PZC) \n11.2     Advance Introduction of ORDINANCE 6464 of 2024 \nAN ORDINANCE PROHIBITING THE PLACEMENT OF CERTAIN MONUMENTS ON PARISH PROPERTY\, AND OTHERWISE PROVIDING WITH RESPECT THERETO \n(Epperson) \n  \n11.3     Advance Resolution 65 of 2024 \nA RESOLUTION EXPRESSING THE SUPPORT OF THE CADDO PARISH COMMISSION FOR THE EFFORTS TO RENOVATE AND IMPROVE FAIRGROUNDS FIELD AND THE EFFORTS OF THE FRIENDS OF THE FAIRGROUND OF FAIRGROUNDS FIELD TOWARDS THAT GOAL\, AND OTHERWISE PROVIDING WITH RESPECT THERETO \n(John-Paul Young\, Thomas) \n11.4    Advance a Special Resolution Honoring Gold Star Survivors \n(Epperson\, Cothran\, Thomas\, Atkins) \n11.5   Advance a Special Resolution celebrating the installation of Rev. Brian Wilson as Pastor of Unity of Faith Baptist Church \n(Cothran) \n11.6   Advance a Special Resolution recognizing Workforce Development Month and Goodwill Industries. \n(Thomas) \n11.7  Advance a Special Resolution for the Walk to End Alzheimer’s \n(Thomas) \n11.8  Advance a Special Resolution for the Progressive Smith Brothers \n(Thomas) \n11.9   Advance Appointment of Mr. Patrick Caraway to the Industrial Development Board to fill the unexpired term of Kyle McInnis\, term to expire 8/22/2029. Resume \n(Atkins) \n11.10 Advance Appointment of Mr. Tim Jones to the Industrial Development Board to fill the unexpired term of Kyle McInnis\, term to expire 8/22/2029. Resume \n(Cothran\, Jones) \n  \n  \n\nCOMMUNIQUES AND COMMITTEE REPORTS:\n\n  \n\nCITIZENS COMMENTS (Late Arrivals):\n\nCitizens who wish to address the Commission please fill out a comment card located in the chamber foyer\, and return to the Chairman or the Clerk of the Commission. Citizens may also fill out & submit a COMMENT CARD ONLINE HERE prior to the meeting.  Individual comments are limited to 3 minutes. \n  \n\nCONSENT AGENDA:\n\n14.1     Visit from Airport Park Community Choir \n(Gage-Watts) \n14.2     Presentation of Special Resolution for Mrs. Bobby T. Henderson \n(Burrell\, Cothran) \n14.3     Resolution 58 of 2024 \nA RESOLUTION AMENDING THE RULES AND BY-LAWS OF THE CADDO PARISH COMMISSION TO PROVIDE FOR A PERMANENT PUBLIC SAFETY COMMITTEE\, AND OTHERWISE PROVIDING WITH RESPECT THERETO \n(Epperson\, Thomas) \n14.4     Ordinance 6456 of 2024 \nAN ORDINANCE SETTING THE PARISH MILLAGE FOR THE PURPOSE OF PAYING PRINCIPAL AND INTEREST\, DUE IN 2024 ON OUTSTANDING PARISH BOND ISSUES AND TO INSTRUCT THE ASSESSOR TO INCLUDE SAID MILLAGE ON THE TAX ROLL OF THE PARISH OF CADDO FOR THE YEAR 2024\, AND TO OTHERWISE PROVIDE WITH RESPECT THERETO Fact Sheet \n(Finance) \n14.5     Ordinance 6457 of 2024 \nAN ORDINANCE TO ADOPT THE VALUES FIXED\, OR TO BE FIXED BY THE LOUISIANA TAX COMMISSION ON ALL ASSESSMENTS FOR RAILWAYS AND OTHER PUBLIC SERVICE CORPORATIONS\, AND TO INSTRUCT THE ASSESSOR TO EXTEND SUCH ASSESSMENTS AND VALUES ON THE TAX ROLL OF THE PARISH OF CADDO FOR THE YEAR 2024\, AND TO OTHERWISE PROVIDE WITH RESPECT THERETO Fact Sheet \n(Finance) \n14.6      Ordinance 6458 of 2024 \nAN ORDINANCE TO SET THE GENERAL PURPOSE AND SPECIAL PURPOSE MILLAGES PROVIDING FOR AN INCREASE IN THE MILLAGE RATES NOT IN EXCESS OF THE PRIOR YEARS MAXIMUM RATES\, AS ALLOWED BY ARTICLE VII\, SECTION 23 OF THE LOUISIANA CONSTITUTION OF 1974 AND LA R.S. 47:1705 (B)\, LEVYING AND IMPOSING TAXES AND ASSESSMENTS FOR 2024 ON ALL THE PROPERTY SUBJECT TO TAXATION IN THE PARISH OF CADDO\, AND TO OTHERWISE PROVIDE WITH RESPECT THERETO Fact Sheet \n(Finance) \n14.7      Ordinance 6459 of 2024 \nAN ORDINANCE TO SET THE GENERAL PURPOSE AND SPECIAL PURPOSE MILLAGES PROVIDING FOR MILLAGE RATE ADJUSTMENTS\, AS ALLOWED BY ARTICLE VII\, SECTION 23 OF THE LOUISIANA CONSTITUTION OF 1974 AND LA R.S. 47:1705 (B)\, LEVYING AND IMPOSING TAXES AND ASSESSMENTS FOR 2024 ON ALL THE PROPERTY SUBJECT TO TAXATION IN THE PARISH OF CADDO\, AND TO OTHERWISE PROVIDE WITH RESPECT THERETO. Fact Sheet \n(Finance) \n14.8     Ordinance 6460 of 2024 \nAN ORDINANCE SETTING THE ASSESSMENT OF PROPERTY CLASSIFIED AS TIMBERLANDS AND TO INSTRUCT THE ASSESSOR TO INCLUDE SAID ASSESSMENT ON THE TAX ROLL OF THE PARISH OF CADDO FOR THE YEAR 2024\, AND TO OTHERWISE PROVIDE WITH RESPECT THERETO Fact Sheet \n(Finance) \n14.9     Ordinance 6461 of 2024 \nAN ORDINANCE TO SELL SURPLUS PROPERTY UNDER CHAPTER 19\, ARTICLE II\, DIVISION 3 OF THE CODE OF ORDINANCES RELATIVE TO DONATION OF ADJUDICATED PROPERTY ACQUIRED BY THE PARISH UNDER LA. R.S. 47:2236 ET SEQ.\, TO AUTHORIZE THE DONATION OF PROPERTY TO GODS OF GRIND\, LLC\, AND TO OTHERWISE PROVIDE WITH RESPECT THERETO Fact Sheet Proposed Amendment \n(District 3) \n14.10   Ordinance 6462 of 2024 \nAN ORDINANCE TO DONATE SURPLUS PROPERTY UNDER CHAPTER 19\, ARTICLE II\, DIVISION 3 OF THE CODE OF ORDINANCES RELATIVE TO DONATION OF ADJUDICATED PROPERTY ACQUIRED BY THE PARISH UNDER LA. R.S. 47:2236 ET SEQ.\, TO AUTHORIZE THE DONATION OF PROPERTY TO CADDO PARISH FIRE PROTECTION DISTRICT ONE\, AND TO OTHERWISE PROVIDE WITH RESPECT THERETO Fact Sheet \n(District 2) \n  \n\nADJOURN:\n\n  \nStatement of Accommodations \nTo all persons desiring to attend and observe a meeting of the Caddo Parish Commission\, or who wish to present information to the body: If you have physical limitations that require special accommodations in order for you to attend and participate in a meeting of the Caddo Parish Commission\, please contact the office of the Caddo Parish Commission Clerk at (318) 226-6596\, at least 24 hours in advance of the meeting so that an effort can be made to provide those accommodations.
URL:https://caddo.gov/event/work-session-31/
LOCATION:Government Plaza Chambers\, 505 Travis St\, Shreveport\, LA\, 71101-3027\, United States
CATEGORIES:Work Session
END:VEVENT
BEGIN:VEVENT
DTSTART;TZID=America/Chicago:20240930T153000
DTEND;TZID=America/Chicago:20240930T170000
DTSTAMP:20260420T145623
CREATED:20240129T171348Z
LAST-MODIFIED:20240930T141852Z
UID:10000257-1727710200-1727715600@caddo.gov
SUMMARY:Work Session
DESCRIPTION:CADDO PARISH COMMISSION\n505 TRAVIS STREET\, GOVERNMENT PLAZA\nPUBLIC NOTICE\nWORK SESSION AGENDA\nStreaming at https://www.youtube.com/@parishofcaddois \nSeptember 30\, 2024\n3:30 P.M. \n  \n\nROLL CALL:\n\n            Commissioners: \n\n\n\nDistrict 1\nKracman\nDistrict 7\nGage-Watts\n\n\nDistrict 2\nYoung\, G. \nDistrict 8\nBlake\n\n\nDistrict 3\nThomas\nDistrict 9\nAtkins\n\n\nDistrict 4\nYoung\, J.P. \nDistrict 10\nCothran\n\n\nDistrict 5\nBurrell\nDistrict 11 \nLazarus\n\n\nDistrict 6\nJones\nDistrict 12\nEpperson\n\n\n\n  \n  \n  \n\nINVOCATION:\n\n  \n\nPLEDGE OF ALLEGIANCE:\n\nVeterans and active military members saluting during recitation of the Pledge of Allegiance would be appropriate\, should you wish to do so. All others\, please recite with your hands over your hearts\, and we ask that everyone please remember our POW-MIA’s as we say the Pledge of Allegiance. \n  \n\nAGENDA ADDITIONS:\n\n  \n\nCITIZENS COMMENTS:\n\nCitizens who wish to address the Commission on any issue other than zoning\, please fill out a comment card located in the chamber foyer and return to the President or the Clerk of the Commission.  Individual comments are limited to 3 minutes. \n           \n\nVISITORS:\n\n  \n\nREPORTS:\n\n  \n7.1       Administrator Report \n  \n\nCOMMISSION REMARKS:\n\n                        Communiques\, reports\, and other items related to Work Session Agenda. \n  \n\nPRESIDENT’S REPORT:\n\n  \n\nOLD BUSINESS:\n\n10.1   Advance Appointment of Mr. Patrick Caraway to the Industrial Development Board to fill the unexpired term of Kyle McInnis\, term to expire 8/22/2029. Resume \n(Atkins) \n  \n10.2  Advance Appointment of Mr. Tim Jones to the Industrial Development Board to fill the unexpired term of Kyle McInnis\, term to expire 8/22/2029. Resume \n(Cothran\, Jones) \n  \n\nNEW BUSINESS:\n\n  \n11.1     Advance Introduction of Ordinance 6465 of 2024 \nAN ORDINANCE AMENDING THE BUDGETS OF ESTIMATED REVENUES AND EXPENDITURES FOR THE BUILDING MAINTENANCE FUND\, CAPITAL IMPROVEMENT FUND I\, OIL AND GAS FUND\, PUBLIC WORKS FUND\, SOLID WASTE FUND\, PARKS AND RECREATION FUND\, JUVENILE JUSTICE FUND\, HEALTH TAX FUND\, GENERAL FUND\, DETENTION FACILITIES FUND AND THE CAPITAL OUTLAY FUND FOR THE YEAR 2023 TO TERMINATE COMPLETED OR LAPSED CAPITAL PROJECTS\, AND TO OTHERWISE PROVIDE WITH RESPECT THERETO Exhibit Fact Sheet \n(Administration) \n  \n11.2     Advance Introduction of Ordinance 6466 of 2024 \nAN ORDINANCE TO AMEND ARTICLE VI OF CHAPTER 26 OF THE CODE OF ORDINANCES OF THE PARISH OF CADDO RELATIVE TO SECTION 26-189\, SCHEDULE I\, NO TRUCK ZONES\, ON BROWN STREET AND COLEY ROAD AND TO OTHERWISE PROVIDE WITH RESPECT THERETO Exhibit Fact Sheet \n(Public Works) \n  \n11.3     Advance Introduction of Ordinance 6467 of 2024 \nORDINANCE TO AUTHORIZE THE PURCHASE OF THE SURFACE PARKING LOT\, LOCATED AT TEXAS AT MCNEILL STREETS\, SHREVEPORT\, LOUISIANA\, AND TO OTHERWISE PROVIDE WITH RESPECT THERETO. \n(Administration) \n  \n11.4     Advance Introduction of Ordinance 6468 of 2024 \nAN ORDINANCE DECLARING CERTAIN ADJUDICATED PROPERTIES TO BE SURPLUS AND TO AUTHORIZE THE PARISH ADMINISTRATOR\, OR A DESIGNEE\, TO SELL THE PARISH OF CADDO’S TAX INTEREST IN CERTAIN SURPLUS ADJUDICATED PROPERTIES\, AND TO OTHERWISE PROVIDE WITH RESPECT  THERETO Fact Sheet Exhibit \n(District 3) \n  \n11.5     Advance Resolution 66 of 2024 \nA RESOLUTION ESTABLISHING A CADDO PARISH YOUTH COMMISSION COMPRISED OF LOCAL HIGH SCHOOL STUDENTS\, AND TO OTHERWISE PROVIDE WITH RESPECT THERETO. Exhibit 1 \n(Juvenile Justice Committee) \n  \n11.6   Advance Resolution 67 of 2024 \nRESOLUTION REQUESTING THE CADDO PARISH SCHOOL BOARD TO IMPLEMENT A LITTER EDUCATION AND PREVENTION PROGRAM\, AND OTHERWISE PROVIDING WITH RESPECT THERETO. \n(Lazarus\, Kracman) \n  \n11.7 Advance Resolution 68 of 2024 \nA RESOLUTION ESTABLISHING THE FILM AND ENTERTAINMENT SUBCOMMITTEE OF THE CADDO PARISH COMMISSION’S ECONOMIC DEVELOPMENT COMMITTEE\, AND OTHERWISE PROVIDING WITH RESPECT THERETO \n(G. Young) \n11.8   Advance Special Resolution of recognition for Gloria Gibson \n(Burrell) \n  \n\nCOMMUNIQUES AND COMMITTEE REPORTS:\n\n  \n\nCITIZENS COMMENTS (Late Arrivals):\n\nCitizens who wish to address the Commission please fill out a comment card located in the chamber foyer\, and return to the Chairman or the Clerk of the Commission. Citizens may also fill out & submit a COMMENT CARD ONLINE HERE prior to the meeting.  Individual comments are limited to 3 minutes. \n  \n\nCONSENT AGENDA:\n\n  \n14.1 ORDINANCE 6463 of 2024 in relation to Zoning Case 24-01-CTAP \nAN ORDINANCE TO AMEND VOLUME II OF THE CODE OF ORDINANCES OF THE PARISH OF CADDO\, AS AMENDED\, THE CADDO PARISH UNIFIED DEVELOPMENT CODE\, RELATIVE TO SHORT-TERM RENTALS\, WITH ALL THEIR PROVISIONS INCLUDED HEREIN\, AND TO OTHERWISE PROVIDE WITH RESPECT THERETO. \n(PZC) \n  \n14.2 ORDINANCE 6464 of 2024 \nAN ORDINANCE PROHIBITING THE PLACEMENT OF CERTAIN MONUMENTS ON PARISH PROPERTY\, AND OTHERWISE PROVIDING WITH RESPECT THERETO \n(Epperson) \n  \n  \n\nADJOURN:\n\n  \nStatement of Accommodations \nTo all persons desiring to attend and observe a meeting of the Caddo Parish Commission\, or who wish to present information to the body: If you have physical limitations that require special accommodations in order for you to attend and participate in a meeting of the Caddo Parish Commission\, please contact the office of the Caddo Parish Commission Clerk at (318) 226-6596\, at least 24 hours in advance of the meeting so that an effort can be made to provide those accommodations.
URL:https://caddo.gov/event/work-session-32/
LOCATION:Government Plaza Chambers\, 505 Travis St\, Shreveport\, LA\, 71101-3027\, United States
CATEGORIES:Work Session
END:VEVENT
END:VCALENDAR