BEGIN:VCALENDAR
VERSION:2.0
PRODID:-//Parish of Caddo - ECPv6.15.20//NONSGML v1.0//EN
CALSCALE:GREGORIAN
METHOD:PUBLISH
X-WR-CALNAME:Parish of Caddo
X-ORIGINAL-URL:https://caddo.gov
X-WR-CALDESC:Events for Parish of Caddo
REFRESH-INTERVAL;VALUE=DURATION:PT1H
X-Robots-Tag:noindex
X-PUBLISHED-TTL:PT1H
BEGIN:VTIMEZONE
TZID:America/Chicago
BEGIN:DAYLIGHT
TZOFFSETFROM:-0600
TZOFFSETTO:-0500
TZNAME:CDT
DTSTART:20230312T080000
END:DAYLIGHT
BEGIN:STANDARD
TZOFFSETFROM:-0500
TZOFFSETTO:-0600
TZNAME:CST
DTSTART:20231105T070000
END:STANDARD
BEGIN:DAYLIGHT
TZOFFSETFROM:-0600
TZOFFSETTO:-0500
TZNAME:CDT
DTSTART:20240310T080000
END:DAYLIGHT
BEGIN:STANDARD
TZOFFSETFROM:-0500
TZOFFSETTO:-0600
TZNAME:CST
DTSTART:20241103T070000
END:STANDARD
BEGIN:DAYLIGHT
TZOFFSETFROM:-0600
TZOFFSETTO:-0500
TZNAME:CDT
DTSTART:20250309T080000
END:DAYLIGHT
BEGIN:STANDARD
TZOFFSETFROM:-0500
TZOFFSETTO:-0600
TZNAME:CST
DTSTART:20251102T070000
END:STANDARD
END:VTIMEZONE
BEGIN:VEVENT
DTSTART;TZID=America/Chicago:20240916T110000
DTEND;TZID=America/Chicago:20240916T120000
DTSTAMP:20260425T181621
CREATED:20240913T143235Z
LAST-MODIFIED:20240913T143447Z
UID:10000399-1726484400-1726488000@caddo.gov
SUMMARY:Long Range Planning & Special Projects Committee Meeting
DESCRIPTION:CADDO PARISH COMMISSION \n505 TRAVIS STREET\, GOVERNMENT PLAZA \nPUBLIC NOTICE \nLONG RANGE PLANNING COMMITTEE AGENDA \nSeptember 16\, 2024 \n11:00 am \n  \n\nLONG RANGE PLANNING & SPECIAL NEEDS COMMITTEE ROLL CALL:\n\n     Chris Kracman\, Chairman \nEd Lazarus \nVictor L. Thomas \nGreg Young \nJohn-Paul Young—President \n  \n\nINVOCATION:\n\n  \n\nPLEDGE OF ALLEGIANCE:\n\nVeterans and active military members saluting during recitation of the Pledge of Allegiance would be appropriate\, should you wish to do so. All others\, please recite with your hands over your hearts\, and we ask that everyone please remember our POW-MIA’s as we say the Pledge of Allegiance. \n\nAGENDA ADDITIONS:\n\n  \n\nPUBLIC COMMENTS:\n\nCitizens who wish to address the Committee may appear in person\, and either fill out a comment card or request to speak when the chair asks if there are additional public comments. Individual comments are limited to 3 minutes\n   \n\nNEW BUSINESS:\n\n  \n6.1  Update on Walter B. Jacobs project \n6.2 Discussion related to Master Planning and Unified Development Code updates to include discussion of structure\, goals\, funding and timeline. \n6.3 Update on Discussion with Constables and Justices of the Piece about litter enforcement \n  \n\nADJOURN:\n\nStatement of Accommodations \nTo all persons desiring to attend and observe a meeting of the Caddo Parish Commission\, or who wish to present information to the body: If you have physical limitations that require special accommodations in order for you to attend and participate in a meeting of the Caddo Parish Commission\, please contact the office of the Caddo Parish Commission Clerk at (318) 226-6596\, at least 24 hours in advance of the meeting so that an effort can be made to provide those accommodations.
URL:https://caddo.gov/event/long-range-planning-special-projects-committee-meeting/
LOCATION:Government Plaza\, 505 Travis Street\, 1st Floor\, Shreveport\, LA\, 71101\, United States
CATEGORIES:Committee Meetings,Long Range Planning Committee
END:VEVENT
BEGIN:VEVENT
DTSTART;TZID=America/Chicago:20240916T133000
DTEND;TZID=America/Chicago:20240916T143000
DTSTAMP:20260425T181621
CREATED:20240913T143404Z
LAST-MODIFIED:20240913T143404Z
UID:10000400-1726493400-1726497000@caddo.gov
SUMMARY:Personnel\, Policy & Procedures Committee Meeting
DESCRIPTION:CADDO PARISH COMMISSION \n505 TRAVIS STREET\, GOVERNMENT PLAZA \nPUBLIC NOTICE \nPERSONNEL\, POLICY & PROCEDURE COMMITTEE \nMEETING AGENDA \nMonday\, September 16th\, 2024 \n1:30 pm \n  \n  \nPERSONNEL\, POLICY & PROCEDURE COMMITTEE ROLL CALL: \n\nGrace Anne Blake (Chair)\nVictor Thomas\nRon Cothran\nKen Epperson\, Sr.\nJohn-Paul Young—President\n\n  \n\nINVOCATION:\nPLEDGE OF ALLEGIANCE:\n\nVeterans and active military members saluting during recitation of the Pledge of Allegiance would be appropriate\, should you wish to do so. All others\, please recite with your hands over your hearts\, and we ask that everyone please remember our POW-MIA’s as we say the Pledge of Allegiance. \n\nAGENDA ADDITIONS:\n\n  \n\nPUBLIC COMMENTS:\n\nCitizens who wish to address the Committee may appear in person\, and either fill out a comment card or request to speak when the chair asks if there are additional public comments. Individual comments are limited to 3 minutes \n\nNEW BUSINESS:\n\n6.1 Discussion of Bylaw update process \n  \n\nADJOURN:\n\nStatement of Accommodations \nTo all persons desiring to attend and observe a meeting of the Caddo Parish Commission\, or who wish to present information to the body: If you have physical limitations that require special accommodations in order for you to attend and participate in a meeting of the Caddo Parish Commission\, please contact the office of the Caddo Parish Commission Clerk at (318) 226-6596\, at least 24 hours in advance of the meeting so that an effort can be made to provide those accommodations.
URL:https://caddo.gov/event/personnel-policy-procedures-committee-meeting/
LOCATION:Government Plaza\, 505 Travis Street\, 1st Floor\, Shreveport\, LA\, 71101\, United States
CATEGORIES:Committee Meetings,Personnel, Policies & Procedure Committee
END:VEVENT
BEGIN:VEVENT
DTSTART;TZID=America/Chicago:20240918T130000
DTEND;TZID=America/Chicago:20240918T140000
DTSTAMP:20260425T181621
CREATED:20240829T220642Z
LAST-MODIFIED:20240917T144850Z
UID:10000395-1726664400-1726668000@caddo.gov
SUMMARY:Charter Review Committee
DESCRIPTION:CADDO PARISH COMMISSION \n505 TRAVIS STREET\, GOVERNMENT PLAZA \nPUBLIC NOTICE AGENDA \n1st Floor Conference Room \nSeptember 17\, 2024 \n1:00 P.M. \n  \n  \n\nROLL CALL:\n\nMr. Versa Clark \nMr. Steven Coleman \nMr. Mike Johnson \nDr. Jimmy Jones \nMr. Curtis Joseph \nMs. Mavice Thigpen \nParish Attorney Donna Frazier \nCommission President John Paul Young \nCaddo Parish Administrator Erica Bryant \n  \nNon-Voting: Caddo Commission Clerk\, Jeff Everson \n  \n\nINVOCATION:\nPLEDGE OF ALLEGIANCE:\nPUBLIC COMMENTS: Citizens who wish to address the Committee\, may fill out a comment card or rise to be recognized. Individual Comments are limited to 3 minutes during the section of this agenda.\nNEW BUSINESS:\n\nSelection of Officers\nDetermination of Meeting Schedule\nDiscussion of Charter Review process\, webpage\, etc.\n\n\n\n  \nADJOURN \nStatement of Accommodations \nTo all persons desiring to attend and observe a meeting of the Caddo Parish Commission\, or who wish to present information to the body: If you have physical limitations that require special accommodations in order for you to attend and participate in a meeting of the Caddo Parish Commission\, please contact the office of the Caddo Parish Commission Clerk at (318) 226-6596\, at least 24 hours in advance of the meeting so that an effort can be made to provide those accommodations.
URL:https://caddo.gov/event/charter-review-committee-2/
LOCATION:Government Plaza\, 505 Travis Street\, 1st Floor\, Shreveport\, LA\, 71101\, United States
CATEGORIES:Committee Meetings
END:VEVENT
BEGIN:VEVENT
DTSTART;TZID=America/Chicago:20240919T130000
DTEND;TZID=America/Chicago:20240919T140000
DTSTAMP:20260425T181621
CREATED:20240829T220535Z
LAST-MODIFIED:20240918T165954Z
UID:10000394-1726750800-1726754400@caddo.gov
SUMMARY:Citizen's Disaster Response\, Review and Recovery Committee convened by the Caddo Parish Public Safety Committee
DESCRIPTION:CADDO PARISH COMMISSION \n505 TRAVIS STREET\, GOVERNMENT PLAZA \nPUBLIC NOTICE \nCITIZEN’S DISASTER RESPONSE\, RECOVERY & REVIEW COMMITTEE \nCONVENED BY THE CADDO PUBLIC SAFETY COMMITTEE \nMEETING AGENDA \nSeptember 19\, 2024 \n1:00 pm \n  \n  \n\nPUBLIC SAFETY  ROLL CALL:\n\nKen Epperson (Chair)\nStormy Gage-Watts\nGreg Young\nVictor L. Thomas\nJohn-Paul Young —President \n\nMembers include: Gabriel Balderas; Wendi Coker; Fred Sanders; Mary O’Neal; Shayne Gibson; Rachel Hill Jackson; Rudolph Glass\, Jr.; Cammie Wright; Tammy Carey; Jeanette Ashley-Williams; Coretta Kimble; Steven Coleman; Larry Richardson; Nancy Treadwell; Hollie Fritz; Peggy Heacock; Kathy Lewis; Richard Miller; Belinda Rose; Tina Pennywell; Sheri Peace; Tommy Giles; Jeron Rogers; Karen Bell; Tony T. Williams [ADD MEMbers]\nINVOCATION:\nPLEDGE OF ALLEGIANCE:\n\nVeterans and active military members saluting during recitation of the Pledge of Allegiance would be appropriate\, should you wish to do so. All others\, please recite with your hands over your hearts\, and we ask that everyone please remember our POW-MIA’s as we say the Pledge of Allegiance. \n\nAGENDA ADDITIONS:\n\n  \n\nPUBLIC COMMENTS:\n\nCitizens who wish to address the Committee may appear in person\, and either fill out a comment card or request to speak when the chair asks if there are additional public comments. Individual comments are limited to 3 minutes \n\nNEW BUSINESS:\n\n6.1 Public Defender’s Office Presentation regarding Caddo support of Public Defender’s salaries \n6.2 Hazard Mitigation Plan review \n6.3 War on Litter update \n6.3 Disaster Committee Update from Public Safety Funding Committee Chairman Ken Epperson \n6.4 Any additional reports received \n6.5 Q & A Session from Citizens Representative on the Committee \n6.6 Summary and closing remarks:  Chairman & Committee Members \n  \n\nADJOURN:\n\nStatement of Accommodations \nTo all persons desiring to attend and observe a meeting of the Caddo Parish Commission\, or who wish to present information to the body: If you have physical limitations that require special accommodations in order for you to attend and participate in a meeting of the Caddo Parish Commission\, please contact the office of the Caddo Parish Commission Clerk at (318) 226-6596\, at least 24 hours in advance of the meeting so that an effort can be made to provide those accommodations.
URL:https://caddo.gov/event/citizens-disaster-response-review-and-recovery-committee-convened-by-the-caddo-parish-public-safety-committee/
LOCATION:Government Plaza\, 505 Travis Street\, 1st Floor\, Shreveport\, LA\, 71101\, United States
CATEGORIES:Committee Meetings,Public Safety Funding Ad Hoc Committee
END:VEVENT
END:VCALENDAR