BEGIN:VCALENDAR
VERSION:2.0
PRODID:-//Parish of Caddo - ECPv6.15.20//NONSGML v1.0//EN
CALSCALE:GREGORIAN
METHOD:PUBLISH
X-ORIGINAL-URL:https://caddo.gov
X-WR-CALDESC:Events for Parish of Caddo
REFRESH-INTERVAL;VALUE=DURATION:PT1H
X-Robots-Tag:noindex
X-PUBLISHED-TTL:PT1H
BEGIN:VTIMEZONE
TZID:America/Chicago
BEGIN:DAYLIGHT
TZOFFSETFROM:-0600
TZOFFSETTO:-0500
TZNAME:CDT
DTSTART:20240310T080000
END:DAYLIGHT
BEGIN:STANDARD
TZOFFSETFROM:-0500
TZOFFSETTO:-0600
TZNAME:CST
DTSTART:20241103T070000
END:STANDARD
BEGIN:DAYLIGHT
TZOFFSETFROM:-0600
TZOFFSETTO:-0500
TZNAME:CDT
DTSTART:20250309T080000
END:DAYLIGHT
BEGIN:STANDARD
TZOFFSETFROM:-0500
TZOFFSETTO:-0600
TZNAME:CST
DTSTART:20251102T070000
END:STANDARD
BEGIN:DAYLIGHT
TZOFFSETFROM:-0600
TZOFFSETTO:-0500
TZNAME:CDT
DTSTART:20260308T080000
END:DAYLIGHT
BEGIN:STANDARD
TZOFFSETFROM:-0500
TZOFFSETTO:-0600
TZNAME:CST
DTSTART:20261101T070000
END:STANDARD
END:VTIMEZONE
BEGIN:VEVENT
DTSTART;TZID=America/Chicago:20250807T140000
DTEND;TZID=America/Chicago:20250807T150000
DTSTAMP:20260419T135131
CREATED:20250801T114619Z
LAST-MODIFIED:20250807T031224Z
UID:10000579-1754575200-1754578800@caddo.gov
SUMMARY:Long Range Planning Committee Meeting
DESCRIPTION:CADDO PARISH COMMISSION \n505 TRAVIS STREET\, GOVERNMENT PLAZA \nPUBLIC NOTICE \nLONG RANGE PLANNING COMMITTEE AGENDA \nAugust 7\, 2025 \n2:00 pm \n  \n\nLONG RANGE PLANNING & SPECIAL PROJECTS COMMITTEE ROLL CALL:\n\n     Ron Cothran\, Chairman \nKen Epperson \nEd Lazarus \nVictor L. Thomas \nChris Kracman \nStormy Gage-Watts—President \n  \n\nINVOCATION:\n\n  \n\nPLEDGE OF ALLEGIANCE:\n\nVeterans and active military members saluting during recitation of the Pledge of Allegiance would be appropriate\, should you wish to do so. All others\, please recite with your hands over your hearts\, and we ask that everyone please remember our POW-MIA’s as we say the Pledge of Allegiance. \n\nAGENDA ADDITIONS:\n\n  \n\nPUBLIC COMMENTS:\n\nCitizens who wish to address the Committee may appear in person\, and either fill out a comment card or request to speak when the chair asks if there are additional public comments. Individual comments are limited to 3 minutes \n\nNEW BUSINESS:\n\n6.1 Discuss and Make Recommendations regarding whether to authorize the Administrator to pursue the implementation of the West Caddo early voting site through the Secretary of State’s office for use during the 2026 election cycle while also proceeding with the implementation of the approved North Caddo early voting site as soon as possible. (remanded to committee from the July 3\, 2025 Regular Session) \nROV Sibley Comments during 8.4.2025 Work Session \n\nADJOURN:\n\n  \nStatement of Accommodations \nTo all persons desiring to attend and observe a meeting of the Caddo Parish Commission\, or who wish to present information to the body: If you have physical limitations that require special accommodations in order for you to attend and participate in a meeting of the Caddo Parish Commission\, please contact the office of the Caddo Parish Commission Clerk at (318) 226-6596\, at least 24 hours in advance of the meeting so that an effort can be made to provide those accommodations.
URL:https://caddo.gov/event/long-range-planning-committee-meeting-10/
LOCATION:Government Plaza\, 505 Travis Street\, 1st Floor\, Shreveport\, LA\, 71101\, United States
CATEGORIES:Committee Meetings,Long Range Planning Committee
END:VEVENT
END:VCALENDAR