BEGIN:VCALENDAR
VERSION:2.0
PRODID:-//Parish of Caddo - ECPv6.15.20//NONSGML v1.0//EN
CALSCALE:GREGORIAN
METHOD:PUBLISH
X-WR-CALNAME:Parish of Caddo
X-ORIGINAL-URL:https://caddo.gov
X-WR-CALDESC:Events for Parish of Caddo
REFRESH-INTERVAL;VALUE=DURATION:PT1H
X-Robots-Tag:noindex
X-PUBLISHED-TTL:PT1H
BEGIN:VTIMEZONE
TZID:America/Chicago
BEGIN:DAYLIGHT
TZOFFSETFROM:-0600
TZOFFSETTO:-0500
TZNAME:CDT
DTSTART:20240310T080000
END:DAYLIGHT
BEGIN:STANDARD
TZOFFSETFROM:-0500
TZOFFSETTO:-0600
TZNAME:CST
DTSTART:20241103T070000
END:STANDARD
BEGIN:DAYLIGHT
TZOFFSETFROM:-0600
TZOFFSETTO:-0500
TZNAME:CDT
DTSTART:20250309T080000
END:DAYLIGHT
BEGIN:STANDARD
TZOFFSETFROM:-0500
TZOFFSETTO:-0600
TZNAME:CST
DTSTART:20251102T070000
END:STANDARD
BEGIN:DAYLIGHT
TZOFFSETFROM:-0600
TZOFFSETTO:-0500
TZNAME:CDT
DTSTART:20260308T080000
END:DAYLIGHT
BEGIN:STANDARD
TZOFFSETFROM:-0500
TZOFFSETTO:-0600
TZNAME:CST
DTSTART:20261101T070000
END:STANDARD
END:VTIMEZONE
BEGIN:VEVENT
DTSTART;TZID=America/Chicago:20250911T080000
DTEND;TZID=America/Chicago:20251014T150000
DTSTAMP:20260419T160605
CREATED:20250911T134149Z
LAST-MODIFIED:20250911T134149Z
UID:10000594-1757577600-1760454000@caddo.gov
SUMMARY:IFB 25-25\, Huckaby Road Bridge Replacement
DESCRIPTION:
URL:https://caddo.gov/event/ifb-25-25-huckaby-road-bridge-replacement/
LOCATION:Government Plaza\, 505 Travis Street\, 1st Floor\, Shreveport\, LA\, 71101\, United States
CATEGORIES:Purchasing Bids
END:VEVENT
BEGIN:VEVENT
DTSTART;TZID=America/Chicago:20250915T150000
DTEND;TZID=America/Chicago:20250915T153000
DTSTAMP:20260419T160605
CREATED:20250912T164956Z
LAST-MODIFIED:20250912T164956Z
UID:10000597-1757948400-1757950200@caddo.gov
SUMMARY:Audit and Finance Committee Meeting
DESCRIPTION:CADDO PARISH COMMISSION \n505 TRAVIS STREET\, GOVERNMENT PLAZA \nPUBLIC NOTICE \nAUDIT & FINANCE COMMITTEE AGENDA \nSeptember 15\, 2025 \n3:00 pm \n  \n\nAUDIT AND FINANCE COMMITTEE ROLL CALL:\n\n     John E. Atkins\, Chairman \nSteffon Jones \nJohn-Paul Young \nStormy Gage-Watts—President \n  \n\nINVOCATION:\n\n  \n\nPLEDGE OF ALLEGIANCE:\n\nVeterans and active military members saluting during recitation of the Pledge of Allegiance would be appropriate\, should you wish to do so. All others\, please recite with your hands over your hearts\, and we ask that everyone please remember our POW-MIA’s as we say the Pledge of Allegiance. \n\nAGENDA ADDITIONS:\n\n  \n\nPUBLIC COMMENTS:\n\nCitizens who wish to address the Committee may appear in person\, and either fill out a comment card or request to speak when the chair asks if there are additional public comments. Individual comments are limited to 3 minutes \n\n\nNEW BUSINESS:\n\n6.1 Receive information\, discuss and respond to the 2025 Annual Audit. \n\nADJOURN:\n\nStatement of Accommodations \nTo all persons desiring to attend and observe a meeting of the Caddo Parish Commission\, or who wish to present information to the body: If you have physical limitations that require special accommodations in order for you to attend and participate in a meeting of the Caddo Parish Commission\, please contact the office of the Caddo Parish Commission Clerk at (318) 226-6596\, at least 24 hours in advance of the meeting so that an effort can be made to provide those accommodations.
URL:https://caddo.gov/event/audit-and-finance-committee-meeting-3/
LOCATION:Government Plaza\, 505 Travis Street\, 1st Floor\, Shreveport\, LA\, 71101\, United States
CATEGORIES:Audit & Finance Committee,Committee Meetings
END:VEVENT
BEGIN:VEVENT
DTSTART;TZID=America/Chicago:20250915T153000
DTEND;TZID=America/Chicago:20250915T170000
DTSTAMP:20260419T160605
CREATED:20241216T220205Z
LAST-MODIFIED:20250912T201518Z
UID:10000468-1757950200-1757955600@caddo.gov
SUMMARY:Work Session Meeting of the Caddo Parish Commission
DESCRIPTION:CADDO PARISH COMMISSION\n505 TRAVIS STREET\, GOVERNMENT PLAZA\nPUBLIC NOTICE\nWORK SESSION AGENDA\nStreaming at https://www.youtube.com/@parishofcaddois  \nSeptember 15\, 2025\n3:30 P.M. \n\nROLL CALL:\n\n            Commissioners: \n\n\n\nDistrict 1\nKracman\nDistrict 7\nGage-Watts\n\n\nDistrict 2\nYoung\, G. \nDistrict 8\nBlake\n\n\nDistrict 3\nThomas\nDistrict 9\nAtkins\n\n\nDistrict 4\nYoung\, J.P. \nDistrict 10\nCothran\n\n\nDistrict 5\nBurrell\nDistrict 11 \nLazarus\n\n\nDistrict 6\nJones\nDistrict 12\nEpperson\n\n\n\n  \n  \n  \n\nINVOCATION:\n\n  \n\nPLEDGE OF ALLEGIANCE:\n\nVeterans and active military members saluting during recitation of the Pledge of Allegiance would be appropriate\, should you wish to do so. All others\, please recite with your hands over your hearts\, and we ask that everyone please remember our POW-MIA’s as we say the Pledge of Allegiance. \n  \n\nAGENDA ADDITIONS:\n\n  \n\nCITIZENS COMMENTS:\n\nCitizens who wish to address the Commission on any issue other than zoning\, please fill out a comment card located in the chamber foyer and return to the President or the Clerk of the Commission.  Individual comments are limited to 3 minutes. \n           \n\nVISITORS:\n\n  \n\nREPORTS:\n\n\n\n\nAdmin Report\n\nAugust Financials\n\n\n\n\n\n  \n  \n\nCOMMISSION REMARKS:\n\n                        Communiques\, reports\, and other items related to Work Session Agenda. \n  \n\nPRESIDENT’S REPORT:\n\n  \n\nOLD BUSINESS:\n\n  \n\nNEW BUSINESS:\n\n\n\n\nAdvance the Introduction of Ordinance No. 6562 of 2025\n\n\n\nAN ORDINANCE TO AMEND VOLUME II OF THE CODE OF ORDINANCES OF THE PARISH OF CADDO\, AS AMENDED\, THE CADDO PARISH UNIFIED DEVELOPMENT CODE\, BY AMENDING THE ZONING OF PROPERTY LOCATED WEST SIDE OF ELLERBE ROAD\, APPROXIMATELY 825 FEET SOUTH OF EAST FLOURNOY LUCAS ROAD\, CADDO PARISH\, LOUISIANA\, FROM R-1-7 SINGLE FAMILY RESIDENTIAL ZONING DISTRICT TO C-1 NEIGHBORHOOD COMMERCIAL ZONING DISTRICT\, \nAND TO OTHERWISE PROVIDE WITH RESPECT THERETO. \n(District 9) \n  \n\nAdvance Resolution 38 of 2025\n\nA RESOLUTION TO RELOCATE THE POLLING PLACE FOR PRECINCT 5-7 FROM QUEENSBOROUGH ELEMENTARY SCHOOL\, 2701 CATHERINE STREET\, SHREVEPORT\, LA 71109 TO BILBERRY PARK COMMUNITY CENTER\, 1902 ALABAMA STREET\, SHREVEPORT\, LOUISIANA 71109 TO\, AND OTHERWISE PROVIDING WITH RESPECT THERETO. \n(District 5) \n  \n\nAdvance a Special Resolution Commemorating the 78th Anniversary of the United States Air Force.\n\n(Epperson) \n\nAdvance a Special Resolution of Remembrance Commemorating the Life and Legacy of Mr. Walter Perry\n\n(G. Young) \n\nAdvance a Special Resolution of Recognition to the Southwood High School Football Team.\n\n(Jones) \n\nAdvance a Special Resolution of Recognition for United Through Fitness’s Riverfest.\n\n(Gage-Watts) \n\nAdvance a Special Resolution of Recognition joining the National Salute to African-American Authors\n\n(Gage-Watts) \n\nAdvance a Special Resolution for the Mane Event Car Show.\n\n(Burrell) \n\nAdvance a Visit from Mudbugs Assistant Coach Brett Smith\n\n(Blake) \n10. Commission to convene in Executive Session related to Caddo Suit #659061 \n(Parish Attorney’s Office) \n  \n\nCOMMUNIQUES AND COMMITTEE REPORTS:\n\n  \n\nCITIZENS COMMENTS (Late Arrivals):\n\nCitizens who wish to address the Commission please fill out a comment card located in the chamber foyer\, and return to the Chairman or the Clerk of the Commission. Individual comments are limited to 3 minutes. \n  \n\nCONSENT AGENDA:\n\n  \n\n    Ordinance No. 6561 of 2025\n\nAN ORDINANCE TO DEEM PROPERTY SURPLUS AND AUTHORIZE THE SALE OF SURPLUS PROPERTY OWNED BY THE PARISH OF CADDO AND TO OTHERWISE PROVIDE WITH RESPECT THERETO. Exhibit 1 \n(Legal) \n\n      Ordinance No. 6548 of 2025\n\nAN ORDINANCE AMENDING THE BUDGET OF ESTIMATED REVENUES AND EXPENDITURES FOR THE DEBT SERVICE FUND AND THE CAPITAL OUTLAY FUND TO PROVIDE AN APPROPRIATION OF $10\,000\,000 FOR THE CONSTRUCTION OF A PICKLEBALL PARK\, AND TO OTHERWISE PROVIDE WITH RESPECT THERETO Fact Sheet  \n(Economic Development Committee) \n  \n  \n\nADJOURN:\n\n  \nStatement of Accommodations \nTo all persons desiring to attend and observe a meeting of the Caddo Parish Commission\, or who wish to present information to the body: If you have physical limitations that require special accommodations in order for you to attend and participate in a meeting of the Caddo Parish Commission\, please contact the office of the Caddo Parish Commission Clerk at (318) 226-6596\, at least 24 hours in advance of the meeting so that an effort can be made to provide those accommodations.
URL:https://caddo.gov/event/work-session-meeting-of-the-caddo-parish-commission-17/
LOCATION:Government Plaza\, 505 Travis Street\, 1st Floor\, Shreveport\, LA\, 71101\, United States
CATEGORIES:Work Session
END:VEVENT
END:VCALENDAR